BEGIN:VCALENDAR
VERSION:2.0
PRODID:-//Professional Networking Alliance - ECPv6.15.20//NONSGML v1.0//EN
CALSCALE:GREGORIAN
METHOD:PUBLISH
X-WR-CALNAME:Professional Networking Alliance
X-ORIGINAL-URL:https://www.professionalnetworkingalliance.com
X-WR-CALDESC:Events for Professional Networking Alliance
REFRESH-INTERVAL;VALUE=DURATION:PT1H
X-Robots-Tag:noindex
X-PUBLISHED-TTL:PT1H
BEGIN:VTIMEZONE
TZID:America/New_York
BEGIN:DAYLIGHT
TZOFFSETFROM:-0500
TZOFFSETTO:-0400
TZNAME:EDT
DTSTART:20180311T070000
END:DAYLIGHT
BEGIN:STANDARD
TZOFFSETFROM:-0400
TZOFFSETTO:-0500
TZNAME:EST
DTSTART:20181104T060000
END:STANDARD
BEGIN:DAYLIGHT
TZOFFSETFROM:-0500
TZOFFSETTO:-0400
TZNAME:EDT
DTSTART:20190310T070000
END:DAYLIGHT
BEGIN:STANDARD
TZOFFSETFROM:-0400
TZOFFSETTO:-0500
TZNAME:EST
DTSTART:20191103T060000
END:STANDARD
BEGIN:DAYLIGHT
TZOFFSETFROM:-0500
TZOFFSETTO:-0400
TZNAME:EDT
DTSTART:20200308T070000
END:DAYLIGHT
BEGIN:STANDARD
TZOFFSETFROM:-0400
TZOFFSETTO:-0500
TZNAME:EST
DTSTART:20201101T060000
END:STANDARD
END:VTIMEZONE
BEGIN:VEVENT
DTSTART;TZID=America/New_York:20190306T071500
DTEND;TZID=America/New_York:20190306T090000
DTSTAMP:20260424T050435
CREATED:20190110T180852Z
LAST-MODIFIED:20190110T181033Z
UID:10000045-1551856500-1551862800@www.professionalnetworkingalliance.com
SUMMARY:Weekly Meeting (Open)
DESCRIPTION:
URL:https://www.professionalnetworkingalliance.com/event/weekly-meeting-2019/2019-03-06/
LOCATION:Holiday Inn\, Gaithersburg\, 2 Montgomery Village Avenue\, Gaithersburg\, 20886\, United States
CATEGORIES:Open to Members, Visitors, & Guests,Weekly Meeting
GEO:39.1539887;-77.2118207
X-APPLE-STRUCTURED-LOCATION;VALUE=URI;X-ADDRESS=Holiday Inn Gaithersburg 2 Montgomery Village Avenue Gaithersburg 20886 United States;X-APPLE-RADIUS=500;X-TITLE=2 Montgomery Village Avenue:geo:-77.2118207,39.1539887
END:VEVENT
BEGIN:VEVENT
DTSTART;TZID=America/New_York:20190313T071500
DTEND;TZID=America/New_York:20190313T090000
DTSTAMP:20260424T050435
CREATED:20190110T180852Z
LAST-MODIFIED:20190110T181033Z
UID:10000046-1552461300-1552467600@www.professionalnetworkingalliance.com
SUMMARY:Weekly Meeting (Open)
DESCRIPTION:
URL:https://www.professionalnetworkingalliance.com/event/weekly-meeting-2019/2019-03-13/
LOCATION:Holiday Inn\, Gaithersburg\, 2 Montgomery Village Avenue\, Gaithersburg\, 20886\, United States
CATEGORIES:Open to Members, Visitors, & Guests,Weekly Meeting
GEO:39.1539887;-77.2118207
X-APPLE-STRUCTURED-LOCATION;VALUE=URI;X-ADDRESS=Holiday Inn Gaithersburg 2 Montgomery Village Avenue Gaithersburg 20886 United States;X-APPLE-RADIUS=500;X-TITLE=2 Montgomery Village Avenue:geo:-77.2118207,39.1539887
END:VEVENT
BEGIN:VEVENT
DTSTART;TZID=America/New_York:20190320T071500
DTEND;TZID=America/New_York:20190320T090000
DTSTAMP:20260424T050435
CREATED:20190110T180852Z
LAST-MODIFIED:20190110T181033Z
UID:10000047-1553066100-1553072400@www.professionalnetworkingalliance.com
SUMMARY:Weekly Meeting (Open)
DESCRIPTION:
URL:https://www.professionalnetworkingalliance.com/event/weekly-meeting-2019/2019-03-20/
LOCATION:Holiday Inn\, Gaithersburg\, 2 Montgomery Village Avenue\, Gaithersburg\, 20886\, United States
CATEGORIES:Open to Members, Visitors, & Guests,Weekly Meeting
GEO:39.1539887;-77.2118207
X-APPLE-STRUCTURED-LOCATION;VALUE=URI;X-ADDRESS=Holiday Inn Gaithersburg 2 Montgomery Village Avenue Gaithersburg 20886 United States;X-APPLE-RADIUS=500;X-TITLE=2 Montgomery Village Avenue:geo:-77.2118207,39.1539887
END:VEVENT
BEGIN:VEVENT
DTSTART;TZID=America/New_York:20190320T170000
DTEND;TZID=America/New_York:20190320T190000
DTSTAMP:20260424T050435
CREATED:20190314T193513Z
LAST-MODIFIED:20190314T193513Z
UID:10000182-1553101200-1553108400@www.professionalnetworkingalliance.com
SUMMARY:March 2019 Happy Hour
DESCRIPTION:Come join Maryland’s top networking group for an evening of good food\, drinks\, conversation\, and networking opportunities!!
URL:https://www.professionalnetworkingalliance.com/event/march-2019-happy-hour/
LOCATION:Boca Botanas Tapas Bar\, 239 Muddy Branch Rd\, Gaithersburg\, MD\, 20878\, United States
CATEGORIES:Happy Hour,Networking Event,Open to Members, Visitors, & Guests
ATTACH;FMTTYPE=image/jpeg:https://www.professionalnetworkingalliance.com/wp-content/uploads/2019/03/BocaBotanas15.jpg
ORGANIZER;CN="Matt Deeds":MAILTO:events@bniwednesday.com
GEO:39.1283098;-77.2086015
X-APPLE-STRUCTURED-LOCATION;VALUE=URI;X-ADDRESS=Boca Botanas Tapas Bar 239 Muddy Branch Rd Gaithersburg MD 20878 United States;X-APPLE-RADIUS=500;X-TITLE=239 Muddy Branch Rd:geo:-77.2086015,39.1283098
END:VEVENT
BEGIN:VEVENT
DTSTART;TZID=America/New_York:20190327T071500
DTEND;TZID=America/New_York:20190327T090000
DTSTAMP:20260424T050435
CREATED:20190110T180852Z
LAST-MODIFIED:20190110T181033Z
UID:10000048-1553670900-1553677200@www.professionalnetworkingalliance.com
SUMMARY:Weekly Meeting (Open)
DESCRIPTION:
URL:https://www.professionalnetworkingalliance.com/event/weekly-meeting-2019/2019-03-27/
LOCATION:Holiday Inn\, Gaithersburg\, 2 Montgomery Village Avenue\, Gaithersburg\, 20886\, United States
CATEGORIES:Open to Members, Visitors, & Guests,Weekly Meeting
GEO:39.1539887;-77.2118207
X-APPLE-STRUCTURED-LOCATION;VALUE=URI;X-ADDRESS=Holiday Inn Gaithersburg 2 Montgomery Village Avenue Gaithersburg 20886 United States;X-APPLE-RADIUS=500;X-TITLE=2 Montgomery Village Avenue:geo:-77.2118207,39.1539887
END:VEVENT
END:VCALENDAR