BEGIN:VCALENDAR
VERSION:2.0
PRODID:-//Professional Networking Alliance - ECPv6.15.20//NONSGML v1.0//EN
CALSCALE:GREGORIAN
METHOD:PUBLISH
X-WR-CALNAME:Professional Networking Alliance
X-ORIGINAL-URL:https://www.professionalnetworkingalliance.com
X-WR-CALDESC:Events for Professional Networking Alliance
REFRESH-INTERVAL;VALUE=DURATION:PT1H
X-Robots-Tag:noindex
X-PUBLISHED-TTL:PT1H
BEGIN:VTIMEZONE
TZID:America/New_York
BEGIN:DAYLIGHT
TZOFFSETFROM:-0500
TZOFFSETTO:-0400
TZNAME:EDT
DTSTART:20180311T070000
END:DAYLIGHT
BEGIN:STANDARD
TZOFFSETFROM:-0400
TZOFFSETTO:-0500
TZNAME:EST
DTSTART:20181104T060000
END:STANDARD
BEGIN:DAYLIGHT
TZOFFSETFROM:-0500
TZOFFSETTO:-0400
TZNAME:EDT
DTSTART:20190310T070000
END:DAYLIGHT
BEGIN:STANDARD
TZOFFSETFROM:-0400
TZOFFSETTO:-0500
TZNAME:EST
DTSTART:20191103T060000
END:STANDARD
BEGIN:DAYLIGHT
TZOFFSETFROM:-0500
TZOFFSETTO:-0400
TZNAME:EDT
DTSTART:20200308T070000
END:DAYLIGHT
BEGIN:STANDARD
TZOFFSETFROM:-0400
TZOFFSETTO:-0500
TZNAME:EST
DTSTART:20201101T060000
END:STANDARD
END:VTIMEZONE
BEGIN:VEVENT
DTSTART;TZID=America/New_York:20191106T071500
DTEND;TZID=America/New_York:20191106T090000
DTSTAMP:20260423T170825
CREATED:20190110T180852Z
LAST-MODIFIED:20190110T181033Z
UID:10000080-1573024500-1573030800@www.professionalnetworkingalliance.com
SUMMARY:Weekly Meeting (Open)
DESCRIPTION:
URL:https://www.professionalnetworkingalliance.com/event/weekly-meeting-2019/2019-11-06/
LOCATION:Holiday Inn\, Gaithersburg\, 2 Montgomery Village Avenue\, Gaithersburg\, 20886\, United States
CATEGORIES:Open to Members, Visitors, & Guests,Weekly Meeting
GEO:39.1539887;-77.2118207
X-APPLE-STRUCTURED-LOCATION;VALUE=URI;X-ADDRESS=Holiday Inn Gaithersburg 2 Montgomery Village Avenue Gaithersburg 20886 United States;X-APPLE-RADIUS=500;X-TITLE=2 Montgomery Village Avenue:geo:-77.2118207,39.1539887
END:VEVENT
BEGIN:VEVENT
DTSTART;TZID=America/New_York:20191113T071500
DTEND;TZID=America/New_York:20191113T090000
DTSTAMP:20260423T170825
CREATED:20190110T180852Z
LAST-MODIFIED:20190110T181033Z
UID:10000081-1573629300-1573635600@www.professionalnetworkingalliance.com
SUMMARY:Weekly Meeting (Open)
DESCRIPTION:
URL:https://www.professionalnetworkingalliance.com/event/weekly-meeting-2019/2019-11-13/
LOCATION:Holiday Inn\, Gaithersburg\, 2 Montgomery Village Avenue\, Gaithersburg\, 20886\, United States
CATEGORIES:Open to Members, Visitors, & Guests,Weekly Meeting
GEO:39.1539887;-77.2118207
X-APPLE-STRUCTURED-LOCATION;VALUE=URI;X-ADDRESS=Holiday Inn Gaithersburg 2 Montgomery Village Avenue Gaithersburg 20886 United States;X-APPLE-RADIUS=500;X-TITLE=2 Montgomery Village Avenue:geo:-77.2118207,39.1539887
END:VEVENT
BEGIN:VEVENT
DTSTART;TZID=America/New_York:20191120T071500
DTEND;TZID=America/New_York:20191120T090000
DTSTAMP:20260423T170825
CREATED:20190110T180852Z
LAST-MODIFIED:20190110T181033Z
UID:10000082-1574234100-1574240400@www.professionalnetworkingalliance.com
SUMMARY:Weekly Meeting (Open)
DESCRIPTION:
URL:https://www.professionalnetworkingalliance.com/event/weekly-meeting-2019/2019-11-20/
LOCATION:Holiday Inn\, Gaithersburg\, 2 Montgomery Village Avenue\, Gaithersburg\, 20886\, United States
CATEGORIES:Open to Members, Visitors, & Guests,Weekly Meeting
GEO:39.1539887;-77.2118207
X-APPLE-STRUCTURED-LOCATION;VALUE=URI;X-ADDRESS=Holiday Inn Gaithersburg 2 Montgomery Village Avenue Gaithersburg 20886 United States;X-APPLE-RADIUS=500;X-TITLE=2 Montgomery Village Avenue:geo:-77.2118207,39.1539887
END:VEVENT
BEGIN:VEVENT
DTSTART;TZID=America/New_York:20191127T071500
DTEND;TZID=America/New_York:20191127T090000
DTSTAMP:20260423T170825
CREATED:20190110T180852Z
LAST-MODIFIED:20190110T181033Z
UID:10000083-1574838900-1574845200@www.professionalnetworkingalliance.com
SUMMARY:Weekly Meeting (Open)
DESCRIPTION:
URL:https://www.professionalnetworkingalliance.com/event/weekly-meeting-2019/2019-11-27/
LOCATION:Holiday Inn\, Gaithersburg\, 2 Montgomery Village Avenue\, Gaithersburg\, 20886\, United States
CATEGORIES:Open to Members, Visitors, & Guests,Weekly Meeting
GEO:39.1539887;-77.2118207
X-APPLE-STRUCTURED-LOCATION;VALUE=URI;X-ADDRESS=Holiday Inn Gaithersburg 2 Montgomery Village Avenue Gaithersburg 20886 United States;X-APPLE-RADIUS=500;X-TITLE=2 Montgomery Village Avenue:geo:-77.2118207,39.1539887
END:VEVENT
END:VCALENDAR