BEGIN:VCALENDAR
VERSION:2.0
PRODID:-//Professional Networking Alliance - ECPv6.15.20//NONSGML v1.0//EN
CALSCALE:GREGORIAN
METHOD:PUBLISH
X-ORIGINAL-URL:https://www.professionalnetworkingalliance.com
X-WR-CALDESC:Events for Professional Networking Alliance
REFRESH-INTERVAL;VALUE=DURATION:PT1H
X-Robots-Tag:noindex
X-PUBLISHED-TTL:PT1H
BEGIN:VTIMEZONE
TZID:America/New_York
BEGIN:DAYLIGHT
TZOFFSETFROM:-0500
TZOFFSETTO:-0400
TZNAME:EDT
DTSTART:20200308T070000
END:DAYLIGHT
BEGIN:STANDARD
TZOFFSETFROM:-0400
TZOFFSETTO:-0500
TZNAME:EST
DTSTART:20201101T060000
END:STANDARD
BEGIN:DAYLIGHT
TZOFFSETFROM:-0500
TZOFFSETTO:-0400
TZNAME:EDT
DTSTART:20210314T070000
END:DAYLIGHT
BEGIN:STANDARD
TZOFFSETFROM:-0400
TZOFFSETTO:-0500
TZNAME:EST
DTSTART:20211107T060000
END:STANDARD
BEGIN:DAYLIGHT
TZOFFSETFROM:-0500
TZOFFSETTO:-0400
TZNAME:EDT
DTSTART:20220313T070000
END:DAYLIGHT
BEGIN:STANDARD
TZOFFSETFROM:-0400
TZOFFSETTO:-0500
TZNAME:EST
DTSTART:20221106T060000
END:STANDARD
END:VTIMEZONE
BEGIN:VEVENT
DTSTART;TZID=America/New_York:20211201T073000
DTEND;TZID=America/New_York:20211201T090000
DTSTAMP:20260422T070156
CREATED:20211006T181934Z
LAST-MODIFIED:20211210T164341Z
UID:10000228-1638343800-1638349200@www.professionalnetworkingalliance.com
SUMMARY:Weekly Meeting
DESCRIPTION:
URL:https://www.professionalnetworkingalliance.com/event/weekly-meeting-2021-2021-12-01/
LOCATION:Launch Workplaces\, 9841 Washingtonian Boulevard\, Suite 200\, Gaithersburg\, MD\, 20878\, United States
CATEGORIES:Open to Members, Visitors, & Guests,Weekly Meeting
ORGANIZER;CN="Virginia Tehrani":MAILTO:president@professionalnetworkingalliance.com
GEO:39.1169662;-77.1989719
X-APPLE-STRUCTURED-LOCATION;VALUE=URI;X-ADDRESS=Launch Workplaces 9841 Washingtonian Boulevard Suite 200 Gaithersburg MD 20878 United States;X-APPLE-RADIUS=500;X-TITLE=9841 Washingtonian Boulevard\, Suite 200:geo:-77.1989719,39.1169662
END:VEVENT
BEGIN:VEVENT
DTSTART;TZID=America/New_York:20211201T073000
DTEND;TZID=America/New_York:20211201T090000
DTSTAMP:20260422T070156
CREATED:20211006T181934Z
LAST-MODIFIED:20220201T190040Z
UID:10000204-1638343800-1638349200@www.professionalnetworkingalliance.com
SUMMARY:Weekly Meeting
DESCRIPTION:
URL:https://www.professionalnetworkingalliance.com/event/weekly-meeting-2021/2021-12-01/
LOCATION:Zoom
CATEGORIES:Open to Members, Visitors, & Guests,Weekly Meeting
ORGANIZER;CN="Virginia Tehrani":MAILTO:president@professionalnetworkingalliance.com
END:VEVENT
BEGIN:VEVENT
DTSTART;TZID=America/New_York:20211208T073000
DTEND;TZID=America/New_York:20211208T090000
DTSTAMP:20260422T070156
CREATED:20211006T181934Z
LAST-MODIFIED:20220201T190040Z
UID:10000205-1638948600-1638954000@www.professionalnetworkingalliance.com
SUMMARY:Weekly Meeting
DESCRIPTION:
URL:https://www.professionalnetworkingalliance.com/event/weekly-meeting-2021/2021-12-08/
LOCATION:Zoom
CATEGORIES:Open to Members, Visitors, & Guests,Weekly Meeting
ORGANIZER;CN="Virginia Tehrani":MAILTO:president@professionalnetworkingalliance.com
END:VEVENT
BEGIN:VEVENT
DTSTART;TZID=America/New_York:20211215T073000
DTEND;TZID=America/New_York:20211215T090000
DTSTAMP:20260422T070156
CREATED:20211006T181934Z
LAST-MODIFIED:20220201T190040Z
UID:10000206-1639553400-1639558800@www.professionalnetworkingalliance.com
SUMMARY:Weekly Meeting
DESCRIPTION:
URL:https://www.professionalnetworkingalliance.com/event/weekly-meeting-2021/2021-12-15/
LOCATION:Zoom
CATEGORIES:Open to Members, Visitors, & Guests,Weekly Meeting
ORGANIZER;CN="Virginia Tehrani":MAILTO:president@professionalnetworkingalliance.com
END:VEVENT
BEGIN:VEVENT
DTSTART;TZID=America/New_York:20211222T073000
DTEND;TZID=America/New_York:20211222T090000
DTSTAMP:20260422T070156
CREATED:20211006T181934Z
LAST-MODIFIED:20220201T190040Z
UID:10000207-1640158200-1640163600@www.professionalnetworkingalliance.com
SUMMARY:Weekly Meeting
DESCRIPTION:
URL:https://www.professionalnetworkingalliance.com/event/weekly-meeting-2021/2021-12-22/
LOCATION:Zoom
CATEGORIES:Open to Members, Visitors, & Guests,Weekly Meeting
ORGANIZER;CN="Virginia Tehrani":MAILTO:president@professionalnetworkingalliance.com
END:VEVENT
BEGIN:VEVENT
DTSTART;TZID=America/New_York:20211229T073000
DTEND;TZID=America/New_York:20211229T090000
DTSTAMP:20260422T070156
CREATED:20211006T181934Z
LAST-MODIFIED:20220201T190040Z
UID:10000208-1640763000-1640768400@www.professionalnetworkingalliance.com
SUMMARY:Weekly Meeting
DESCRIPTION:
URL:https://www.professionalnetworkingalliance.com/event/weekly-meeting-2021/2021-12-29/
LOCATION:Zoom
CATEGORIES:Open to Members, Visitors, & Guests,Weekly Meeting
ORGANIZER;CN="Virginia Tehrani":MAILTO:president@professionalnetworkingalliance.com
END:VEVENT
END:VCALENDAR