BEGIN:VCALENDAR
VERSION:2.0
PRODID:-//Professional Networking Alliance - ECPv6.15.20//NONSGML v1.0//EN
CALSCALE:GREGORIAN
METHOD:PUBLISH
X-WR-CALNAME:Professional Networking Alliance
X-ORIGINAL-URL:https://www.professionalnetworkingalliance.com
X-WR-CALDESC:Events for Professional Networking Alliance
REFRESH-INTERVAL;VALUE=DURATION:PT1H
X-Robots-Tag:noindex
X-PUBLISHED-TTL:PT1H
BEGIN:VTIMEZONE
TZID:America/New_York
BEGIN:DAYLIGHT
TZOFFSETFROM:-0500
TZOFFSETTO:-0400
TZNAME:EDT
DTSTART:20210314T070000
END:DAYLIGHT
BEGIN:STANDARD
TZOFFSETFROM:-0400
TZOFFSETTO:-0500
TZNAME:EST
DTSTART:20211107T060000
END:STANDARD
BEGIN:DAYLIGHT
TZOFFSETFROM:-0500
TZOFFSETTO:-0400
TZNAME:EDT
DTSTART:20220313T070000
END:DAYLIGHT
BEGIN:STANDARD
TZOFFSETFROM:-0400
TZOFFSETTO:-0500
TZNAME:EST
DTSTART:20221106T060000
END:STANDARD
BEGIN:DAYLIGHT
TZOFFSETFROM:-0500
TZOFFSETTO:-0400
TZNAME:EDT
DTSTART:20230312T070000
END:DAYLIGHT
BEGIN:STANDARD
TZOFFSETFROM:-0400
TZOFFSETTO:-0500
TZNAME:EST
DTSTART:20231105T060000
END:STANDARD
END:VTIMEZONE
BEGIN:VEVENT
DTSTART;TZID=America/New_York:20220105T073000
DTEND;TZID=America/New_York:20220105T090000
DTSTAMP:20260422T053208
CREATED:20211006T181934Z
LAST-MODIFIED:20220201T190040Z
UID:10000209-1641367800-1641373200@www.professionalnetworkingalliance.com
SUMMARY:Weekly Meeting
DESCRIPTION:
URL:https://www.professionalnetworkingalliance.com/event/weekly-meeting-2021/2022-01-05/
LOCATION:Zoom
CATEGORIES:Open to Members, Visitors, & Guests,Weekly Meeting
ORGANIZER;CN="Virginia Tehrani":MAILTO:president@professionalnetworkingalliance.com
END:VEVENT
BEGIN:VEVENT
DTSTART;TZID=America/New_York:20220112T073000
DTEND;TZID=America/New_York:20220112T090000
DTSTAMP:20260422T053208
CREATED:20211006T181934Z
LAST-MODIFIED:20220201T190040Z
UID:10000210-1641972600-1641978000@www.professionalnetworkingalliance.com
SUMMARY:Weekly Meeting
DESCRIPTION:
URL:https://www.professionalnetworkingalliance.com/event/weekly-meeting-2021/2022-01-12/
LOCATION:Zoom
CATEGORIES:Open to Members, Visitors, & Guests,Weekly Meeting
ORGANIZER;CN="Virginia Tehrani":MAILTO:president@professionalnetworkingalliance.com
END:VEVENT
BEGIN:VEVENT
DTSTART;TZID=America/New_York:20220119T073000
DTEND;TZID=America/New_York:20220119T090000
DTSTAMP:20260422T053208
CREATED:20211006T181934Z
LAST-MODIFIED:20220201T190040Z
UID:10000211-1642577400-1642582800@www.professionalnetworkingalliance.com
SUMMARY:Weekly Meeting
DESCRIPTION:
URL:https://www.professionalnetworkingalliance.com/event/weekly-meeting-2021/2022-01-19/
LOCATION:Zoom
CATEGORIES:Open to Members, Visitors, & Guests,Weekly Meeting
ORGANIZER;CN="Virginia Tehrani":MAILTO:president@professionalnetworkingalliance.com
END:VEVENT
BEGIN:VEVENT
DTSTART;TZID=America/New_York:20220126T073000
DTEND;TZID=America/New_York:20220126T090000
DTSTAMP:20260422T053208
CREATED:20211006T181934Z
LAST-MODIFIED:20220201T190040Z
UID:10000212-1643182200-1643187600@www.professionalnetworkingalliance.com
SUMMARY:Weekly Meeting
DESCRIPTION:
URL:https://www.professionalnetworkingalliance.com/event/weekly-meeting-2021/2022-01-26/
LOCATION:Zoom
CATEGORIES:Open to Members, Visitors, & Guests,Weekly Meeting
ORGANIZER;CN="Virginia Tehrani":MAILTO:president@professionalnetworkingalliance.com
END:VEVENT
END:VCALENDAR