BEGIN:VCALENDAR
VERSION:2.0
PRODID:-//Professional Networking Alliance - ECPv6.15.20//NONSGML v1.0//EN
CALSCALE:GREGORIAN
METHOD:PUBLISH
X-ORIGINAL-URL:https://www.professionalnetworkingalliance.com
X-WR-CALDESC:Events for Professional Networking Alliance
REFRESH-INTERVAL;VALUE=DURATION:PT1H
X-Robots-Tag:noindex
X-PUBLISHED-TTL:PT1H
BEGIN:VTIMEZONE
TZID:America/New_York
BEGIN:DAYLIGHT
TZOFFSETFROM:-0500
TZOFFSETTO:-0400
TZNAME:EDT
DTSTART:20210314T070000
END:DAYLIGHT
BEGIN:STANDARD
TZOFFSETFROM:-0400
TZOFFSETTO:-0500
TZNAME:EST
DTSTART:20211107T060000
END:STANDARD
BEGIN:DAYLIGHT
TZOFFSETFROM:-0500
TZOFFSETTO:-0400
TZNAME:EDT
DTSTART:20220313T070000
END:DAYLIGHT
BEGIN:STANDARD
TZOFFSETFROM:-0400
TZOFFSETTO:-0500
TZNAME:EST
DTSTART:20221106T060000
END:STANDARD
BEGIN:DAYLIGHT
TZOFFSETFROM:-0500
TZOFFSETTO:-0400
TZNAME:EDT
DTSTART:20230312T070000
END:DAYLIGHT
BEGIN:STANDARD
TZOFFSETFROM:-0400
TZOFFSETTO:-0500
TZNAME:EST
DTSTART:20231105T060000
END:STANDARD
END:VTIMEZONE
BEGIN:VEVENT
DTSTART;TZID=America/New_York:20220601T073000
DTEND;TZID=America/New_York:20220601T090000
DTSTAMP:20260421T223933
CREATED:20220506T140529Z
LAST-MODIFIED:20220506T140716Z
UID:10000162-1654068600-1654074000@www.professionalnetworkingalliance.com
SUMMARY:Weekly Meeting with featured speaker Dave Houston of Friends and Family Flooring
DESCRIPTION:
URL:https://www.professionalnetworkingalliance.com/event/weekly-meeting-2022-06-01/
LOCATION:Launch Workplaces\, 9841 Washingtonian Boulevard\, Suite 200\, Gaithersburg\, MD\, 20878\, United States
CATEGORIES:Open to Members, Visitors, & Guests,Weekly Meeting
ORGANIZER;CN="Virginia Tehrani":MAILTO:president@professionalnetworkingalliance.com
GEO:39.1169662;-77.1989719
X-APPLE-STRUCTURED-LOCATION;VALUE=URI;X-ADDRESS=Launch Workplaces 9841 Washingtonian Boulevard Suite 200 Gaithersburg MD 20878 United States;X-APPLE-RADIUS=500;X-TITLE=9841 Washingtonian Boulevard\, Suite 200:geo:-77.1989719,39.1169662
END:VEVENT
BEGIN:VEVENT
DTSTART;TZID=America/New_York:20220622T073000
DTEND;TZID=America/New_York:20220622T080000
DTSTAMP:20260421T223933
CREATED:20220622T193555Z
LAST-MODIFIED:20220909T163731Z
UID:10000258-1655883000-1655884800@www.professionalnetworkingalliance.com
SUMMARY:Weekly Meeting with featured speaker Bob Stone of Stone IT Services & Consulting
DESCRIPTION:
URL:https://www.professionalnetworkingalliance.com/event/weekly-meeting-2022-06-22/
LOCATION:Launch Workplaces\, 9841 Washingtonian Boulevard\, Suite 200\, Gaithersburg\, MD\, 20878\, United States
CATEGORIES:Open to Members, Visitors, & Guests,Weekly Meeting
ATTACH;FMTTYPE=image/jpeg:https://www.professionalnetworkingalliance.com/wp-content/uploads/2022/02/Bob-Stone.jpg
ORGANIZER;CN="Virginia Tehrani":MAILTO:president@professionalnetworkingalliance.com
GEO:39.1169662;-77.1989719
X-APPLE-STRUCTURED-LOCATION;VALUE=URI;X-ADDRESS=Launch Workplaces 9841 Washingtonian Boulevard Suite 200 Gaithersburg MD 20878 United States;X-APPLE-RADIUS=500;X-TITLE=9841 Washingtonian Boulevard\, Suite 200:geo:-77.1989719,39.1169662
END:VEVENT
BEGIN:VEVENT
DTSTART;TZID=America/New_York:20220629T073000
DTEND;TZID=America/New_York:20220629T090000
DTSTAMP:20260421T223933
CREATED:20220622T193237Z
LAST-MODIFIED:20220622T193237Z
UID:10000166-1656487800-1656493200@www.professionalnetworkingalliance.com
SUMMARY:Weekly Meeting with featured speaker Virginia Tehrani of Greenblatt & Veliev
DESCRIPTION:PNA’s mission is “to empower business professionals with a strategic networking program that helps them discover\, engage and build life-long relationships.” \nJoin members of PNA and guests for a weekly networking meeting where members and guests will have the opportunity to share details of their businesses including identifying their perfect referral and meet new businesspeople to help grow your business. \nOur featured speaker this week will be personal injury attorney Virginia Tehrani with the law firm of Greenblatt & Veliev\, LLC! \n  \n 
URL:https://www.professionalnetworkingalliance.com/event/weekly-meeting-2022-06-29/
LOCATION:Launch Workplaces\, 9841 Washingtonian Boulevard\, Suite 200\, Gaithersburg\, MD\, 20878\, United States
CATEGORIES:Open to Members, Visitors, & Guests,Weekly Meeting
ATTACH;FMTTYPE=image/jpeg:https://www.professionalnetworkingalliance.com/wp-content/uploads/2022/02/Virginia.jpg
ORGANIZER;CN="Virginia Tehrani":MAILTO:president@professionalnetworkingalliance.com
GEO:39.1169662;-77.1989719
X-APPLE-STRUCTURED-LOCATION;VALUE=URI;X-ADDRESS=Launch Workplaces 9841 Washingtonian Boulevard Suite 200 Gaithersburg MD 20878 United States;X-APPLE-RADIUS=500;X-TITLE=9841 Washingtonian Boulevard\, Suite 200:geo:-77.1989719,39.1169662
END:VEVENT
END:VCALENDAR