BEGIN:VCALENDAR
VERSION:2.0
PRODID:-//Professional Networking Alliance - ECPv6.15.20//NONSGML v1.0//EN
CALSCALE:GREGORIAN
METHOD:PUBLISH
X-ORIGINAL-URL:https://www.professionalnetworkingalliance.com
X-WR-CALDESC:Events for Professional Networking Alliance
REFRESH-INTERVAL;VALUE=DURATION:PT1H
X-Robots-Tag:noindex
X-PUBLISHED-TTL:PT1H
BEGIN:VTIMEZONE
TZID:America/New_York
BEGIN:DAYLIGHT
TZOFFSETFROM:-0500
TZOFFSETTO:-0400
TZNAME:EDT
DTSTART:20160313T070000
END:DAYLIGHT
BEGIN:STANDARD
TZOFFSETFROM:-0400
TZOFFSETTO:-0500
TZNAME:EST
DTSTART:20161106T060000
END:STANDARD
BEGIN:DAYLIGHT
TZOFFSETFROM:-0500
TZOFFSETTO:-0400
TZNAME:EDT
DTSTART:20170312T070000
END:DAYLIGHT
BEGIN:STANDARD
TZOFFSETFROM:-0400
TZOFFSETTO:-0500
TZNAME:EST
DTSTART:20171105T060000
END:STANDARD
BEGIN:DAYLIGHT
TZOFFSETFROM:-0500
TZOFFSETTO:-0400
TZNAME:EDT
DTSTART:20180311T070000
END:DAYLIGHT
BEGIN:STANDARD
TZOFFSETFROM:-0400
TZOFFSETTO:-0500
TZNAME:EST
DTSTART:20181104T060000
END:STANDARD
BEGIN:DAYLIGHT
TZOFFSETFROM:-0500
TZOFFSETTO:-0400
TZNAME:EDT
DTSTART:20190310T070000
END:DAYLIGHT
BEGIN:STANDARD
TZOFFSETFROM:-0400
TZOFFSETTO:-0500
TZNAME:EST
DTSTART:20191103T060000
END:STANDARD
BEGIN:DAYLIGHT
TZOFFSETFROM:-0500
TZOFFSETTO:-0400
TZNAME:EDT
DTSTART:20200308T070000
END:DAYLIGHT
BEGIN:STANDARD
TZOFFSETFROM:-0400
TZOFFSETTO:-0500
TZNAME:EST
DTSTART:20201101T060000
END:STANDARD
END:VTIMEZONE
BEGIN:VEVENT
DTSTART;TZID=America/New_York:20190501T071500
DTEND;TZID=America/New_York:20190501T090000
DTSTAMP:20260420T015710
CREATED:20190110T180852Z
LAST-MODIFIED:20190110T181033Z
UID:10000053-1556694900-1556701200@www.professionalnetworkingalliance.com
SUMMARY:Weekly Meeting (Open)
DESCRIPTION:
URL:https://www.professionalnetworkingalliance.com/event/weekly-meeting-2019/2019-05-01/
LOCATION:Holiday Inn\, Gaithersburg\, 2 Montgomery Village Avenue\, Gaithersburg\, 20886\, United States
CATEGORIES:Open to Members, Visitors, & Guests,Weekly Meeting
GEO:39.1539887;-77.2118207
X-APPLE-STRUCTURED-LOCATION;VALUE=URI;X-ADDRESS=Holiday Inn Gaithersburg 2 Montgomery Village Avenue Gaithersburg 20886 United States;X-APPLE-RADIUS=500;X-TITLE=2 Montgomery Village Avenue:geo:-77.2118207,39.1539887
END:VEVENT
BEGIN:VEVENT
DTSTART;TZID=America/New_York:20190424T071500
DTEND;TZID=America/New_York:20190424T090000
DTSTAMP:20260420T015710
CREATED:20190110T180852Z
LAST-MODIFIED:20190110T181033Z
UID:10000052-1556090100-1556096400@www.professionalnetworkingalliance.com
SUMMARY:Weekly Meeting (Open)
DESCRIPTION:
URL:https://www.professionalnetworkingalliance.com/event/weekly-meeting-2019/2019-04-24/
LOCATION:Holiday Inn\, Gaithersburg\, 2 Montgomery Village Avenue\, Gaithersburg\, 20886\, United States
CATEGORIES:Open to Members, Visitors, & Guests,Weekly Meeting
GEO:39.1539887;-77.2118207
X-APPLE-STRUCTURED-LOCATION;VALUE=URI;X-ADDRESS=Holiday Inn Gaithersburg 2 Montgomery Village Avenue Gaithersburg 20886 United States;X-APPLE-RADIUS=500;X-TITLE=2 Montgomery Village Avenue:geo:-77.2118207,39.1539887
END:VEVENT
BEGIN:VEVENT
DTSTART;TZID=America/New_York:20190417T071500
DTEND;TZID=America/New_York:20190417T090000
DTSTAMP:20260420T015710
CREATED:20190110T180852Z
LAST-MODIFIED:20190110T181033Z
UID:10000051-1555485300-1555491600@www.professionalnetworkingalliance.com
SUMMARY:Weekly Meeting (Open)
DESCRIPTION:
URL:https://www.professionalnetworkingalliance.com/event/weekly-meeting-2019/2019-04-17/
LOCATION:Holiday Inn\, Gaithersburg\, 2 Montgomery Village Avenue\, Gaithersburg\, 20886\, United States
CATEGORIES:Open to Members, Visitors, & Guests,Weekly Meeting
GEO:39.1539887;-77.2118207
X-APPLE-STRUCTURED-LOCATION;VALUE=URI;X-ADDRESS=Holiday Inn Gaithersburg 2 Montgomery Village Avenue Gaithersburg 20886 United States;X-APPLE-RADIUS=500;X-TITLE=2 Montgomery Village Avenue:geo:-77.2118207,39.1539887
END:VEVENT
BEGIN:VEVENT
DTSTART;TZID=America/New_York:20190410T071500
DTEND;TZID=America/New_York:20190410T090000
DTSTAMP:20260420T015710
CREATED:20190110T180852Z
LAST-MODIFIED:20190110T181033Z
UID:10000050-1554880500-1554886800@www.professionalnetworkingalliance.com
SUMMARY:Weekly Meeting (Open)
DESCRIPTION:
URL:https://www.professionalnetworkingalliance.com/event/weekly-meeting-2019/2019-04-10/
LOCATION:Holiday Inn\, Gaithersburg\, 2 Montgomery Village Avenue\, Gaithersburg\, 20886\, United States
CATEGORIES:Open to Members, Visitors, & Guests,Weekly Meeting
GEO:39.1539887;-77.2118207
X-APPLE-STRUCTURED-LOCATION;VALUE=URI;X-ADDRESS=Holiday Inn Gaithersburg 2 Montgomery Village Avenue Gaithersburg 20886 United States;X-APPLE-RADIUS=500;X-TITLE=2 Montgomery Village Avenue:geo:-77.2118207,39.1539887
END:VEVENT
BEGIN:VEVENT
DTSTART;TZID=America/New_York:20190403T071500
DTEND;TZID=America/New_York:20190403T090000
DTSTAMP:20260420T015710
CREATED:20190110T180852Z
LAST-MODIFIED:20190110T181033Z
UID:10000049-1554275700-1554282000@www.professionalnetworkingalliance.com
SUMMARY:Weekly Meeting (Open)
DESCRIPTION:
URL:https://www.professionalnetworkingalliance.com/event/weekly-meeting-2019/2019-04-03/
LOCATION:Holiday Inn\, Gaithersburg\, 2 Montgomery Village Avenue\, Gaithersburg\, 20886\, United States
CATEGORIES:Open to Members, Visitors, & Guests,Weekly Meeting
GEO:39.1539887;-77.2118207
X-APPLE-STRUCTURED-LOCATION;VALUE=URI;X-ADDRESS=Holiday Inn Gaithersburg 2 Montgomery Village Avenue Gaithersburg 20886 United States;X-APPLE-RADIUS=500;X-TITLE=2 Montgomery Village Avenue:geo:-77.2118207,39.1539887
END:VEVENT
BEGIN:VEVENT
DTSTART;TZID=America/New_York:20190327T071500
DTEND;TZID=America/New_York:20190327T090000
DTSTAMP:20260420T015710
CREATED:20190110T180852Z
LAST-MODIFIED:20190110T181033Z
UID:10000048-1553670900-1553677200@www.professionalnetworkingalliance.com
SUMMARY:Weekly Meeting (Open)
DESCRIPTION:
URL:https://www.professionalnetworkingalliance.com/event/weekly-meeting-2019/2019-03-27/
LOCATION:Holiday Inn\, Gaithersburg\, 2 Montgomery Village Avenue\, Gaithersburg\, 20886\, United States
CATEGORIES:Open to Members, Visitors, & Guests,Weekly Meeting
GEO:39.1539887;-77.2118207
X-APPLE-STRUCTURED-LOCATION;VALUE=URI;X-ADDRESS=Holiday Inn Gaithersburg 2 Montgomery Village Avenue Gaithersburg 20886 United States;X-APPLE-RADIUS=500;X-TITLE=2 Montgomery Village Avenue:geo:-77.2118207,39.1539887
END:VEVENT
BEGIN:VEVENT
DTSTART;TZID=America/New_York:20190320T170000
DTEND;TZID=America/New_York:20190320T190000
DTSTAMP:20260420T015710
CREATED:20190314T193513Z
LAST-MODIFIED:20190314T193513Z
UID:10000182-1553101200-1553108400@www.professionalnetworkingalliance.com
SUMMARY:March 2019 Happy Hour
DESCRIPTION:Come join Maryland’s top networking group for an evening of good food\, drinks\, conversation\, and networking opportunities!!
URL:https://www.professionalnetworkingalliance.com/event/march-2019-happy-hour/
LOCATION:Boca Botanas Tapas Bar\, 239 Muddy Branch Rd\, Gaithersburg\, MD\, 20878\, United States
CATEGORIES:Happy Hour,Networking Event,Open to Members, Visitors, & Guests
ATTACH;FMTTYPE=image/jpeg:https://www.professionalnetworkingalliance.com/wp-content/uploads/2019/03/BocaBotanas15.jpg
ORGANIZER;CN="Matt Deeds":MAILTO:events@bniwednesday.com
GEO:39.1283098;-77.2086015
X-APPLE-STRUCTURED-LOCATION;VALUE=URI;X-ADDRESS=Boca Botanas Tapas Bar 239 Muddy Branch Rd Gaithersburg MD 20878 United States;X-APPLE-RADIUS=500;X-TITLE=239 Muddy Branch Rd:geo:-77.2086015,39.1283098
END:VEVENT
BEGIN:VEVENT
DTSTART;TZID=America/New_York:20190320T071500
DTEND;TZID=America/New_York:20190320T090000
DTSTAMP:20260420T015710
CREATED:20190110T180852Z
LAST-MODIFIED:20190110T181033Z
UID:10000047-1553066100-1553072400@www.professionalnetworkingalliance.com
SUMMARY:Weekly Meeting (Open)
DESCRIPTION:
URL:https://www.professionalnetworkingalliance.com/event/weekly-meeting-2019/2019-03-20/
LOCATION:Holiday Inn\, Gaithersburg\, 2 Montgomery Village Avenue\, Gaithersburg\, 20886\, United States
CATEGORIES:Open to Members, Visitors, & Guests,Weekly Meeting
GEO:39.1539887;-77.2118207
X-APPLE-STRUCTURED-LOCATION;VALUE=URI;X-ADDRESS=Holiday Inn Gaithersburg 2 Montgomery Village Avenue Gaithersburg 20886 United States;X-APPLE-RADIUS=500;X-TITLE=2 Montgomery Village Avenue:geo:-77.2118207,39.1539887
END:VEVENT
BEGIN:VEVENT
DTSTART;TZID=America/New_York:20190313T071500
DTEND;TZID=America/New_York:20190313T090000
DTSTAMP:20260420T015710
CREATED:20190110T180852Z
LAST-MODIFIED:20190110T181033Z
UID:10000046-1552461300-1552467600@www.professionalnetworkingalliance.com
SUMMARY:Weekly Meeting (Open)
DESCRIPTION:
URL:https://www.professionalnetworkingalliance.com/event/weekly-meeting-2019/2019-03-13/
LOCATION:Holiday Inn\, Gaithersburg\, 2 Montgomery Village Avenue\, Gaithersburg\, 20886\, United States
CATEGORIES:Open to Members, Visitors, & Guests,Weekly Meeting
GEO:39.1539887;-77.2118207
X-APPLE-STRUCTURED-LOCATION;VALUE=URI;X-ADDRESS=Holiday Inn Gaithersburg 2 Montgomery Village Avenue Gaithersburg 20886 United States;X-APPLE-RADIUS=500;X-TITLE=2 Montgomery Village Avenue:geo:-77.2118207,39.1539887
END:VEVENT
BEGIN:VEVENT
DTSTART;TZID=America/New_York:20190306T071500
DTEND;TZID=America/New_York:20190306T090000
DTSTAMP:20260420T015710
CREATED:20190110T180852Z
LAST-MODIFIED:20190110T181033Z
UID:10000045-1551856500-1551862800@www.professionalnetworkingalliance.com
SUMMARY:Weekly Meeting (Open)
DESCRIPTION:
URL:https://www.professionalnetworkingalliance.com/event/weekly-meeting-2019/2019-03-06/
LOCATION:Holiday Inn\, Gaithersburg\, 2 Montgomery Village Avenue\, Gaithersburg\, 20886\, United States
CATEGORIES:Open to Members, Visitors, & Guests,Weekly Meeting
GEO:39.1539887;-77.2118207
X-APPLE-STRUCTURED-LOCATION;VALUE=URI;X-ADDRESS=Holiday Inn Gaithersburg 2 Montgomery Village Avenue Gaithersburg 20886 United States;X-APPLE-RADIUS=500;X-TITLE=2 Montgomery Village Avenue:geo:-77.2118207,39.1539887
END:VEVENT
BEGIN:VEVENT
DTSTART;TZID=America/New_York:20190227T071500
DTEND;TZID=America/New_York:20190227T090000
DTSTAMP:20260420T015710
CREATED:20190110T180852Z
LAST-MODIFIED:20190110T181033Z
UID:10000044-1551251700-1551258000@www.professionalnetworkingalliance.com
SUMMARY:Weekly Meeting (Open)
DESCRIPTION:
URL:https://www.professionalnetworkingalliance.com/event/weekly-meeting-2019/2019-02-27/
LOCATION:Holiday Inn\, Gaithersburg\, 2 Montgomery Village Avenue\, Gaithersburg\, 20886\, United States
CATEGORIES:Open to Members, Visitors, & Guests,Weekly Meeting
GEO:39.1539887;-77.2118207
X-APPLE-STRUCTURED-LOCATION;VALUE=URI;X-ADDRESS=Holiday Inn Gaithersburg 2 Montgomery Village Avenue Gaithersburg 20886 United States;X-APPLE-RADIUS=500;X-TITLE=2 Montgomery Village Avenue:geo:-77.2118207,39.1539887
END:VEVENT
BEGIN:VEVENT
DTSTART;TZID=America/New_York:20190220T071500
DTEND;TZID=America/New_York:20190220T090000
DTSTAMP:20260420T015710
CREATED:20190110T180852Z
LAST-MODIFIED:20190110T181033Z
UID:10000043-1550646900-1550653200@www.professionalnetworkingalliance.com
SUMMARY:Weekly Meeting (Open)
DESCRIPTION:
URL:https://www.professionalnetworkingalliance.com/event/weekly-meeting-2019/2019-02-20/
LOCATION:Holiday Inn\, Gaithersburg\, 2 Montgomery Village Avenue\, Gaithersburg\, 20886\, United States
CATEGORIES:Open to Members, Visitors, & Guests,Weekly Meeting
GEO:39.1539887;-77.2118207
X-APPLE-STRUCTURED-LOCATION;VALUE=URI;X-ADDRESS=Holiday Inn Gaithersburg 2 Montgomery Village Avenue Gaithersburg 20886 United States;X-APPLE-RADIUS=500;X-TITLE=2 Montgomery Village Avenue:geo:-77.2118207,39.1539887
END:VEVENT
BEGIN:VEVENT
DTSTART;TZID=America/New_York:20190213T071500
DTEND;TZID=America/New_York:20190213T090000
DTSTAMP:20260420T015710
CREATED:20190110T180852Z
LAST-MODIFIED:20190110T181033Z
UID:10000042-1550042100-1550048400@www.professionalnetworkingalliance.com
SUMMARY:Weekly Meeting (Open)
DESCRIPTION:
URL:https://www.professionalnetworkingalliance.com/event/weekly-meeting-2019/2019-02-13/
LOCATION:Holiday Inn\, Gaithersburg\, 2 Montgomery Village Avenue\, Gaithersburg\, 20886\, United States
CATEGORIES:Open to Members, Visitors, & Guests,Weekly Meeting
GEO:39.1539887;-77.2118207
X-APPLE-STRUCTURED-LOCATION;VALUE=URI;X-ADDRESS=Holiday Inn Gaithersburg 2 Montgomery Village Avenue Gaithersburg 20886 United States;X-APPLE-RADIUS=500;X-TITLE=2 Montgomery Village Avenue:geo:-77.2118207,39.1539887
END:VEVENT
BEGIN:VEVENT
DTSTART;TZID=America/New_York:20190206T071500
DTEND;TZID=America/New_York:20190206T090000
DTSTAMP:20260420T015710
CREATED:20190110T180852Z
LAST-MODIFIED:20190110T181033Z
UID:10000041-1549437300-1549443600@www.professionalnetworkingalliance.com
SUMMARY:Weekly Meeting (Open)
DESCRIPTION:
URL:https://www.professionalnetworkingalliance.com/event/weekly-meeting-2019/2019-02-06/
LOCATION:Holiday Inn\, Gaithersburg\, 2 Montgomery Village Avenue\, Gaithersburg\, 20886\, United States
CATEGORIES:Open to Members, Visitors, & Guests,Weekly Meeting
GEO:39.1539887;-77.2118207
X-APPLE-STRUCTURED-LOCATION;VALUE=URI;X-ADDRESS=Holiday Inn Gaithersburg 2 Montgomery Village Avenue Gaithersburg 20886 United States;X-APPLE-RADIUS=500;X-TITLE=2 Montgomery Village Avenue:geo:-77.2118207,39.1539887
END:VEVENT
BEGIN:VEVENT
DTSTART;TZID=America/New_York:20190130T071500
DTEND;TZID=America/New_York:20190130T090000
DTSTAMP:20260420T015710
CREATED:20190110T180852Z
LAST-MODIFIED:20190110T181033Z
UID:10000040-1548832500-1548838800@www.professionalnetworkingalliance.com
SUMMARY:Weekly Meeting (Open)
DESCRIPTION:
URL:https://www.professionalnetworkingalliance.com/event/weekly-meeting-2019/2019-01-30/
LOCATION:Holiday Inn\, Gaithersburg\, 2 Montgomery Village Avenue\, Gaithersburg\, 20886\, United States
CATEGORIES:Open to Members, Visitors, & Guests,Weekly Meeting
GEO:39.1539887;-77.2118207
X-APPLE-STRUCTURED-LOCATION;VALUE=URI;X-ADDRESS=Holiday Inn Gaithersburg 2 Montgomery Village Avenue Gaithersburg 20886 United States;X-APPLE-RADIUS=500;X-TITLE=2 Montgomery Village Avenue:geo:-77.2118207,39.1539887
END:VEVENT
BEGIN:VEVENT
DTSTART;TZID=America/New_York:20190123T071500
DTEND;TZID=America/New_York:20190123T090000
DTSTAMP:20260420T015710
CREATED:20190110T180852Z
LAST-MODIFIED:20190110T181033Z
UID:10000039-1548227700-1548234000@www.professionalnetworkingalliance.com
SUMMARY:Weekly Meeting (Open)
DESCRIPTION:
URL:https://www.professionalnetworkingalliance.com/event/weekly-meeting-2019/2019-01-23/
LOCATION:Holiday Inn\, Gaithersburg\, 2 Montgomery Village Avenue\, Gaithersburg\, 20886\, United States
CATEGORIES:Open to Members, Visitors, & Guests,Weekly Meeting
GEO:39.1539887;-77.2118207
X-APPLE-STRUCTURED-LOCATION;VALUE=URI;X-ADDRESS=Holiday Inn Gaithersburg 2 Montgomery Village Avenue Gaithersburg 20886 United States;X-APPLE-RADIUS=500;X-TITLE=2 Montgomery Village Avenue:geo:-77.2118207,39.1539887
END:VEVENT
BEGIN:VEVENT
DTSTART;TZID=America/New_York:20190116T170000
DTEND;TZID=America/New_York:20190116T190000
DTSTAMP:20260420T015710
CREATED:20190116T162951Z
LAST-MODIFIED:20190116T162951Z
UID:10000035-1547658000-1547665200@www.professionalnetworkingalliance.com
SUMMARY:January\, 2019 Happy Hour
DESCRIPTION:
URL:https://www.professionalnetworkingalliance.com/event/january-2019-happy-hour/
LOCATION:Paladar Latin Kitchen & Rum Bar\, 203 Crowne Park Avenue\, Gaithersburg\, 20878
CATEGORIES:Happy Hour,Open to Members, Visitors, & Guests
ORGANIZER;CN="Matt Deeds":MAILTO:events@bniwednesday.com
GEO:39.1146123;-77.205951
X-APPLE-STRUCTURED-LOCATION;VALUE=URI;X-ADDRESS=Paladar Latin Kitchen & Rum Bar 203 Crowne Park Avenue Gaithersburg 20878;X-APPLE-RADIUS=500;X-TITLE=203 Crowne Park Avenue:geo:-77.205951,39.1146123
END:VEVENT
BEGIN:VEVENT
DTSTART;TZID=America/New_York:20190116T071500
DTEND;TZID=America/New_York:20190116T090000
DTSTAMP:20260420T015710
CREATED:20190110T180852Z
LAST-MODIFIED:20190110T181033Z
UID:10000038-1547622900-1547629200@www.professionalnetworkingalliance.com
SUMMARY:Weekly Meeting (Open)
DESCRIPTION:
URL:https://www.professionalnetworkingalliance.com/event/weekly-meeting-2019/2019-01-16/
LOCATION:Holiday Inn\, Gaithersburg\, 2 Montgomery Village Avenue\, Gaithersburg\, 20886\, United States
CATEGORIES:Open to Members, Visitors, & Guests,Weekly Meeting
GEO:39.1539887;-77.2118207
X-APPLE-STRUCTURED-LOCATION;VALUE=URI;X-ADDRESS=Holiday Inn Gaithersburg 2 Montgomery Village Avenue Gaithersburg 20886 United States;X-APPLE-RADIUS=500;X-TITLE=2 Montgomery Village Avenue:geo:-77.2118207,39.1539887
END:VEVENT
BEGIN:VEVENT
DTSTART;TZID=America/New_York:20190112T100000
DTEND;TZID=America/New_York:20190112T120000
DTSTAMP:20260420T015710
CREATED:20190110T182045Z
LAST-MODIFIED:20190110T183047Z
UID:10000036-1547287200-1547294400@www.professionalnetworkingalliance.com
SUMMARY:Free Homebuying Seminar: Lunch & Learn!
DESCRIPTION:
URL:https://www.professionalnetworkingalliance.com/event/free-homebuying-seminar-lunch-learn/
LOCATION:Keller Williams Capital Properties\, 20 West Gude Drive\, Rockville\, MD\, 20850\, United States
CATEGORIES:Open to Members, Visitors, & Guests,Public Event
ORGANIZER;CN="Lorraine Packett":MAILTO:lpackett@homespiremortgage.com
GEO:39.1048786;-77.1583163
X-APPLE-STRUCTURED-LOCATION;VALUE=URI;X-ADDRESS=Keller Williams Capital Properties 20 West Gude Drive Rockville MD 20850 United States;X-APPLE-RADIUS=500;X-TITLE=20 West Gude Drive:geo:-77.1583163,39.1048786
END:VEVENT
BEGIN:VEVENT
DTSTART;TZID=America/New_York:20190109T071500
DTEND;TZID=America/New_York:20190109T090000
DTSTAMP:20260420T015710
CREATED:20190110T180852Z
LAST-MODIFIED:20190110T181033Z
UID:10000037-1547018100-1547024400@www.professionalnetworkingalliance.com
SUMMARY:Weekly Meeting (Open)
DESCRIPTION:
URL:https://www.professionalnetworkingalliance.com/event/weekly-meeting-2019/2019-01-09/
LOCATION:Holiday Inn\, Gaithersburg\, 2 Montgomery Village Avenue\, Gaithersburg\, 20886\, United States
CATEGORIES:Open to Members, Visitors, & Guests,Weekly Meeting
GEO:39.1539887;-77.2118207
X-APPLE-STRUCTURED-LOCATION;VALUE=URI;X-ADDRESS=Holiday Inn Gaithersburg 2 Montgomery Village Avenue Gaithersburg 20886 United States;X-APPLE-RADIUS=500;X-TITLE=2 Montgomery Village Avenue:geo:-77.2118207,39.1539887
END:VEVENT
BEGIN:VEVENT
DTSTART;TZID=America/New_York:20181219T071500
DTEND;TZID=America/New_York:20181219T090000
DTSTAMP:20260420T015710
CREATED:20180306T190949Z
LAST-MODIFIED:20190110T180411Z
UID:10000092-1545203700-1545210000@www.professionalnetworkingalliance.com
SUMMARY:Weekly Meeting (Open)
DESCRIPTION:
URL:https://www.professionalnetworkingalliance.com/event/weekly-meeting-open-2-2018-12-19/
LOCATION:Holiday Inn\, Gaithersburg\, 2 Montgomery Village Avenue\, Gaithersburg\, 20886\, United States
CATEGORIES:Open to Members, Visitors, & Guests,Weekly Meeting
ORGANIZER;CN="Visitor Hosts":MAILTO:visitorhosts@bniwednesday.com
GEO:39.1539887;-77.2118207
X-APPLE-STRUCTURED-LOCATION;VALUE=URI;X-ADDRESS=Holiday Inn Gaithersburg 2 Montgomery Village Avenue Gaithersburg 20886 United States;X-APPLE-RADIUS=500;X-TITLE=2 Montgomery Village Avenue:geo:-77.2118207,39.1539887
END:VEVENT
BEGIN:VEVENT
DTSTART;TZID=America/New_York:20181128T071500
DTEND;TZID=America/New_York:20181128T090000
DTSTAMP:20260420T015710
CREATED:20180306T190949Z
LAST-MODIFIED:20181112T182414Z
UID:10000094-1543389300-1543395600@www.professionalnetworkingalliance.com
SUMMARY:Weekly Meeting (Open)
DESCRIPTION:
URL:https://www.professionalnetworkingalliance.com/event/weekly-meeting-open-2018-11-28/
LOCATION:Holiday Inn\, Gaithersburg\, 2 Montgomery Village Avenue\, Gaithersburg\, 20886\, United States
CATEGORIES:Open to Members, Visitors, & Guests,Weekly Meeting
ORGANIZER;CN="Visitor Hosts":MAILTO:visitorhosts@bniwednesday.com
GEO:39.1539887;-77.2118207
X-APPLE-STRUCTURED-LOCATION;VALUE=URI;X-ADDRESS=Holiday Inn Gaithersburg 2 Montgomery Village Avenue Gaithersburg 20886 United States;X-APPLE-RADIUS=500;X-TITLE=2 Montgomery Village Avenue:geo:-77.2118207,39.1539887
END:VEVENT
BEGIN:VEVENT
DTSTART;TZID=America/New_York:20181114T170000
DTEND;TZID=America/New_York:20181114T190000
DTSTAMP:20260420T015710
CREATED:20181112T182848Z
LAST-MODIFIED:20181112T183044Z
UID:10000163-1542214800-1542222000@www.professionalnetworkingalliance.com
SUMMARY:November Happy Hour
DESCRIPTION:
URL:https://www.professionalnetworkingalliance.com/event/november-happy-hour/
LOCATION:Firebirds Wood Fired Grill\, 390 Spectrum Ave\, Gaithersburg\, MD\, 20879\, United States
CATEGORIES:Happy Hour,Open to Members, Visitors, & Guests,Social Event
ATTACH;FMTTYPE=image/jpeg:https://www.professionalnetworkingalliance.com/wp-content/uploads/2018/11/Firebirds.jpg
ORGANIZER;CN="Matt Deeds":MAILTO:events@bniwednesday.com
GEO:39.1594295;-77.219979
X-APPLE-STRUCTURED-LOCATION;VALUE=URI;X-ADDRESS=Firebirds Wood Fired Grill 390 Spectrum Ave Gaithersburg MD 20879 United States;X-APPLE-RADIUS=500;X-TITLE=390 Spectrum Ave:geo:-77.219979,39.1594295
END:VEVENT
BEGIN:VEVENT
DTSTART;TZID=America/New_York:20181016T170000
DTEND;TZID=America/New_York:20181016T190000
DTSTAMP:20260420T015710
CREATED:20181011T193547Z
LAST-MODIFIED:20181011T193547Z
UID:10000090-1539709200-1539716400@www.professionalnetworkingalliance.com
SUMMARY:October Happy Hour
DESCRIPTION:
URL:https://www.professionalnetworkingalliance.com/event/october-happy-hour/
LOCATION:The Old Towne Pour House\, 212 Ellington Blvd\, Gaithersburg\, 20878
CATEGORIES:Happy Hour,Networking Event,Open to Members, Visitors, & Guests,Social Event
ORGANIZER;CN="Matt Deeds":MAILTO:events@bniwednesday.com
GEO:39.1148952;-77.2049889
X-APPLE-STRUCTURED-LOCATION;VALUE=URI;X-ADDRESS=The Old Towne Pour House 212 Ellington Blvd Gaithersburg 20878;X-APPLE-RADIUS=500;X-TITLE=212 Ellington Blvd:geo:-77.2049889,39.1148952
END:VEVENT
BEGIN:VEVENT
DTSTART;TZID=America/New_York:20171227T071500
DTEND;TZID=America/New_York:20171227T090000
DTSTAMP:20260420T015710
CREATED:20170223T032252Z
LAST-MODIFIED:20220909T161200Z
UID:10000159-1514358900-1514365200@www.professionalnetworkingalliance.com
SUMMARY:Weekly Meeting (Open)
DESCRIPTION:
URL:https://www.professionalnetworkingalliance.com/event/weekly-meeting-open/2017-12-27/
LOCATION:Holiday Inn\, Gaithersburg\, 2 Montgomery Village Avenue\, Gaithersburg\, 20886\, United States
CATEGORIES:Chapter Event,Open to Members, Visitors, & Guests,Weekly Meeting
GEO:39.1539887;-77.2118207
X-APPLE-STRUCTURED-LOCATION;VALUE=URI;X-ADDRESS=Holiday Inn Gaithersburg 2 Montgomery Village Avenue Gaithersburg 20886 United States;X-APPLE-RADIUS=500;X-TITLE=2 Montgomery Village Avenue:geo:-77.2118207,39.1539887
END:VEVENT
BEGIN:VEVENT
DTSTART;TZID=America/New_York:20171220T071500
DTEND;TZID=America/New_York:20171220T090000
DTSTAMP:20260420T015710
CREATED:20170223T032252Z
LAST-MODIFIED:20220909T161200Z
UID:10000158-1513754100-1513760400@www.professionalnetworkingalliance.com
SUMMARY:Weekly Meeting (Open)
DESCRIPTION:
URL:https://www.professionalnetworkingalliance.com/event/weekly-meeting-open/2017-12-20/
LOCATION:Holiday Inn\, Gaithersburg\, 2 Montgomery Village Avenue\, Gaithersburg\, 20886\, United States
CATEGORIES:Chapter Event,Open to Members, Visitors, & Guests,Weekly Meeting
GEO:39.1539887;-77.2118207
X-APPLE-STRUCTURED-LOCATION;VALUE=URI;X-ADDRESS=Holiday Inn Gaithersburg 2 Montgomery Village Avenue Gaithersburg 20886 United States;X-APPLE-RADIUS=500;X-TITLE=2 Montgomery Village Avenue:geo:-77.2118207,39.1539887
END:VEVENT
BEGIN:VEVENT
DTSTART;TZID=America/New_York:20171213T071500
DTEND;TZID=America/New_York:20171213T090000
DTSTAMP:20260420T015710
CREATED:20170223T032252Z
LAST-MODIFIED:20220909T161200Z
UID:10000157-1513149300-1513155600@www.professionalnetworkingalliance.com
SUMMARY:Weekly Meeting (Open)
DESCRIPTION:
URL:https://www.professionalnetworkingalliance.com/event/weekly-meeting-open/2017-12-13/
LOCATION:Holiday Inn\, Gaithersburg\, 2 Montgomery Village Avenue\, Gaithersburg\, 20886\, United States
CATEGORIES:Chapter Event,Open to Members, Visitors, & Guests,Weekly Meeting
GEO:39.1539887;-77.2118207
X-APPLE-STRUCTURED-LOCATION;VALUE=URI;X-ADDRESS=Holiday Inn Gaithersburg 2 Montgomery Village Avenue Gaithersburg 20886 United States;X-APPLE-RADIUS=500;X-TITLE=2 Montgomery Village Avenue:geo:-77.2118207,39.1539887
END:VEVENT
BEGIN:VEVENT
DTSTART;TZID=America/New_York:20171206T071500
DTEND;TZID=America/New_York:20171206T090000
DTSTAMP:20260420T015710
CREATED:20170223T032252Z
LAST-MODIFIED:20220909T161200Z
UID:10000156-1512544500-1512550800@www.professionalnetworkingalliance.com
SUMMARY:Weekly Meeting (Open)
DESCRIPTION:
URL:https://www.professionalnetworkingalliance.com/event/weekly-meeting-open/2017-12-06/
LOCATION:Holiday Inn\, Gaithersburg\, 2 Montgomery Village Avenue\, Gaithersburg\, 20886\, United States
CATEGORIES:Chapter Event,Open to Members, Visitors, & Guests,Weekly Meeting
GEO:39.1539887;-77.2118207
X-APPLE-STRUCTURED-LOCATION;VALUE=URI;X-ADDRESS=Holiday Inn Gaithersburg 2 Montgomery Village Avenue Gaithersburg 20886 United States;X-APPLE-RADIUS=500;X-TITLE=2 Montgomery Village Avenue:geo:-77.2118207,39.1539887
END:VEVENT
BEGIN:VEVENT
DTSTART;TZID=America/New_York:20171129T071500
DTEND;TZID=America/New_York:20171129T090000
DTSTAMP:20260420T015710
CREATED:20170223T032252Z
LAST-MODIFIED:20220909T161200Z
UID:10000155-1511939700-1511946000@www.professionalnetworkingalliance.com
SUMMARY:Weekly Meeting (Open)
DESCRIPTION:
URL:https://www.professionalnetworkingalliance.com/event/weekly-meeting-open/2017-11-29/
LOCATION:Holiday Inn\, Gaithersburg\, 2 Montgomery Village Avenue\, Gaithersburg\, 20886\, United States
CATEGORIES:Chapter Event,Open to Members, Visitors, & Guests,Weekly Meeting
GEO:39.1539887;-77.2118207
X-APPLE-STRUCTURED-LOCATION;VALUE=URI;X-ADDRESS=Holiday Inn Gaithersburg 2 Montgomery Village Avenue Gaithersburg 20886 United States;X-APPLE-RADIUS=500;X-TITLE=2 Montgomery Village Avenue:geo:-77.2118207,39.1539887
END:VEVENT
BEGIN:VEVENT
DTSTART;TZID=America/New_York:20171122T071500
DTEND;TZID=America/New_York:20171122T090000
DTSTAMP:20260420T015710
CREATED:20170223T032252Z
LAST-MODIFIED:20220909T161200Z
UID:10000154-1511334900-1511341200@www.professionalnetworkingalliance.com
SUMMARY:Weekly Meeting (Open)
DESCRIPTION:
URL:https://www.professionalnetworkingalliance.com/event/weekly-meeting-open/2017-11-22/
LOCATION:Holiday Inn\, Gaithersburg\, 2 Montgomery Village Avenue\, Gaithersburg\, 20886\, United States
CATEGORIES:Chapter Event,Open to Members, Visitors, & Guests,Weekly Meeting
GEO:39.1539887;-77.2118207
X-APPLE-STRUCTURED-LOCATION;VALUE=URI;X-ADDRESS=Holiday Inn Gaithersburg 2 Montgomery Village Avenue Gaithersburg 20886 United States;X-APPLE-RADIUS=500;X-TITLE=2 Montgomery Village Avenue:geo:-77.2118207,39.1539887
END:VEVENT
END:VCALENDAR