BEGIN:VCALENDAR
VERSION:2.0
PRODID:-//Professional Networking Alliance - ECPv6.15.20//NONSGML v1.0//EN
CALSCALE:GREGORIAN
METHOD:PUBLISH
X-ORIGINAL-URL:https://www.professionalnetworkingalliance.com
X-WR-CALDESC:Events for Professional Networking Alliance
REFRESH-INTERVAL;VALUE=DURATION:PT1H
X-Robots-Tag:noindex
X-PUBLISHED-TTL:PT1H
BEGIN:VTIMEZONE
TZID:America/New_York
BEGIN:DAYLIGHT
TZOFFSETFROM:-0500
TZOFFSETTO:-0400
TZNAME:EDT
DTSTART:20160313T070000
END:DAYLIGHT
BEGIN:STANDARD
TZOFFSETFROM:-0400
TZOFFSETTO:-0500
TZNAME:EST
DTSTART:20161106T060000
END:STANDARD
BEGIN:DAYLIGHT
TZOFFSETFROM:-0500
TZOFFSETTO:-0400
TZNAME:EDT
DTSTART:20170312T070000
END:DAYLIGHT
BEGIN:STANDARD
TZOFFSETFROM:-0400
TZOFFSETTO:-0500
TZNAME:EST
DTSTART:20171105T060000
END:STANDARD
BEGIN:DAYLIGHT
TZOFFSETFROM:-0500
TZOFFSETTO:-0400
TZNAME:EDT
DTSTART:20180311T070000
END:DAYLIGHT
BEGIN:STANDARD
TZOFFSETFROM:-0400
TZOFFSETTO:-0500
TZNAME:EST
DTSTART:20181104T060000
END:STANDARD
END:VTIMEZONE
BEGIN:VEVENT
DTSTART;TZID=America/New_York:20171115T071500
DTEND;TZID=America/New_York:20171115T090000
DTSTAMP:20260420T061858
CREATED:20170223T032252Z
LAST-MODIFIED:20220909T161200Z
UID:10000153-1510730100-1510736400@www.professionalnetworkingalliance.com
SUMMARY:Weekly Meeting (Open)
DESCRIPTION:
URL:https://www.professionalnetworkingalliance.com/event/weekly-meeting-open/2017-11-15/
LOCATION:Holiday Inn\, Gaithersburg\, 2 Montgomery Village Avenue\, Gaithersburg\, 20886\, United States
CATEGORIES:Chapter Event,Open to Members, Visitors, & Guests,Weekly Meeting
GEO:39.1539887;-77.2118207
X-APPLE-STRUCTURED-LOCATION;VALUE=URI;X-ADDRESS=Holiday Inn Gaithersburg 2 Montgomery Village Avenue Gaithersburg 20886 United States;X-APPLE-RADIUS=500;X-TITLE=2 Montgomery Village Avenue:geo:-77.2118207,39.1539887
END:VEVENT
BEGIN:VEVENT
DTSTART;TZID=America/New_York:20171108T071500
DTEND;TZID=America/New_York:20171108T090000
DTSTAMP:20260420T061858
CREATED:20170223T032252Z
LAST-MODIFIED:20220909T161200Z
UID:10000152-1510125300-1510131600@www.professionalnetworkingalliance.com
SUMMARY:Weekly Meeting (Open)
DESCRIPTION:
URL:https://www.professionalnetworkingalliance.com/event/weekly-meeting-open/2017-11-08/
LOCATION:Holiday Inn\, Gaithersburg\, 2 Montgomery Village Avenue\, Gaithersburg\, 20886\, United States
CATEGORIES:Chapter Event,Open to Members, Visitors, & Guests,Weekly Meeting
GEO:39.1539887;-77.2118207
X-APPLE-STRUCTURED-LOCATION;VALUE=URI;X-ADDRESS=Holiday Inn Gaithersburg 2 Montgomery Village Avenue Gaithersburg 20886 United States;X-APPLE-RADIUS=500;X-TITLE=2 Montgomery Village Avenue:geo:-77.2118207,39.1539887
END:VEVENT
BEGIN:VEVENT
DTSTART;TZID=America/New_York:20171101T071500
DTEND;TZID=America/New_York:20171101T090000
DTSTAMP:20260420T061858
CREATED:20170223T032252Z
LAST-MODIFIED:20220909T161200Z
UID:10000151-1509520500-1509526800@www.professionalnetworkingalliance.com
SUMMARY:Weekly Meeting (Open)
DESCRIPTION:
URL:https://www.professionalnetworkingalliance.com/event/weekly-meeting-open/2017-11-01/
LOCATION:Holiday Inn\, Gaithersburg\, 2 Montgomery Village Avenue\, Gaithersburg\, 20886\, United States
CATEGORIES:Chapter Event,Open to Members, Visitors, & Guests,Weekly Meeting
GEO:39.1539887;-77.2118207
X-APPLE-STRUCTURED-LOCATION;VALUE=URI;X-ADDRESS=Holiday Inn Gaithersburg 2 Montgomery Village Avenue Gaithersburg 20886 United States;X-APPLE-RADIUS=500;X-TITLE=2 Montgomery Village Avenue:geo:-77.2118207,39.1539887
END:VEVENT
BEGIN:VEVENT
DTSTART;TZID=America/New_York:20171025T071500
DTEND;TZID=America/New_York:20171025T090000
DTSTAMP:20260420T061858
CREATED:20170223T032252Z
LAST-MODIFIED:20220909T161200Z
UID:10000150-1508915700-1508922000@www.professionalnetworkingalliance.com
SUMMARY:Weekly Meeting (Open)
DESCRIPTION:
URL:https://www.professionalnetworkingalliance.com/event/weekly-meeting-open/2017-10-25/
LOCATION:Holiday Inn\, Gaithersburg\, 2 Montgomery Village Avenue\, Gaithersburg\, 20886\, United States
CATEGORIES:Chapter Event,Open to Members, Visitors, & Guests,Weekly Meeting
GEO:39.1539887;-77.2118207
X-APPLE-STRUCTURED-LOCATION;VALUE=URI;X-ADDRESS=Holiday Inn Gaithersburg 2 Montgomery Village Avenue Gaithersburg 20886 United States;X-APPLE-RADIUS=500;X-TITLE=2 Montgomery Village Avenue:geo:-77.2118207,39.1539887
END:VEVENT
BEGIN:VEVENT
DTSTART;TZID=America/New_York:20171018T071500
DTEND;TZID=America/New_York:20171018T090000
DTSTAMP:20260420T061858
CREATED:20170223T032252Z
LAST-MODIFIED:20220909T161200Z
UID:10000149-1508310900-1508317200@www.professionalnetworkingalliance.com
SUMMARY:Weekly Meeting (Open)
DESCRIPTION:
URL:https://www.professionalnetworkingalliance.com/event/weekly-meeting-open/2017-10-18/
LOCATION:Holiday Inn\, Gaithersburg\, 2 Montgomery Village Avenue\, Gaithersburg\, 20886\, United States
CATEGORIES:Chapter Event,Open to Members, Visitors, & Guests,Weekly Meeting
GEO:39.1539887;-77.2118207
X-APPLE-STRUCTURED-LOCATION;VALUE=URI;X-ADDRESS=Holiday Inn Gaithersburg 2 Montgomery Village Avenue Gaithersburg 20886 United States;X-APPLE-RADIUS=500;X-TITLE=2 Montgomery Village Avenue:geo:-77.2118207,39.1539887
END:VEVENT
BEGIN:VEVENT
DTSTART;TZID=America/New_York:20171011T071500
DTEND;TZID=America/New_York:20171011T090000
DTSTAMP:20260420T061858
CREATED:20170223T032252Z
LAST-MODIFIED:20220909T161200Z
UID:10000148-1507706100-1507712400@www.professionalnetworkingalliance.com
SUMMARY:Weekly Meeting (Open)
DESCRIPTION:
URL:https://www.professionalnetworkingalliance.com/event/weekly-meeting-open/2017-10-11/
LOCATION:Holiday Inn\, Gaithersburg\, 2 Montgomery Village Avenue\, Gaithersburg\, 20886\, United States
CATEGORIES:Chapter Event,Open to Members, Visitors, & Guests,Weekly Meeting
GEO:39.1539887;-77.2118207
X-APPLE-STRUCTURED-LOCATION;VALUE=URI;X-ADDRESS=Holiday Inn Gaithersburg 2 Montgomery Village Avenue Gaithersburg 20886 United States;X-APPLE-RADIUS=500;X-TITLE=2 Montgomery Village Avenue:geo:-77.2118207,39.1539887
END:VEVENT
BEGIN:VEVENT
DTSTART;TZID=America/New_York:20171004T071500
DTEND;TZID=America/New_York:20171004T090000
DTSTAMP:20260420T061858
CREATED:20170223T032252Z
LAST-MODIFIED:20220909T161200Z
UID:10000147-1507101300-1507107600@www.professionalnetworkingalliance.com
SUMMARY:Weekly Meeting (Open)
DESCRIPTION:
URL:https://www.professionalnetworkingalliance.com/event/weekly-meeting-open/2017-10-04/
LOCATION:Holiday Inn\, Gaithersburg\, 2 Montgomery Village Avenue\, Gaithersburg\, 20886\, United States
CATEGORIES:Chapter Event,Open to Members, Visitors, & Guests,Weekly Meeting
GEO:39.1539887;-77.2118207
X-APPLE-STRUCTURED-LOCATION;VALUE=URI;X-ADDRESS=Holiday Inn Gaithersburg 2 Montgomery Village Avenue Gaithersburg 20886 United States;X-APPLE-RADIUS=500;X-TITLE=2 Montgomery Village Avenue:geo:-77.2118207,39.1539887
END:VEVENT
BEGIN:VEVENT
DTSTART;TZID=America/New_York:20170927T071500
DTEND;TZID=America/New_York:20170927T090000
DTSTAMP:20260420T061858
CREATED:20170223T032252Z
LAST-MODIFIED:20220909T161200Z
UID:10000146-1506496500-1506502800@www.professionalnetworkingalliance.com
SUMMARY:Weekly Meeting (Open)
DESCRIPTION:
URL:https://www.professionalnetworkingalliance.com/event/weekly-meeting-open/2017-09-27/
LOCATION:Holiday Inn\, Gaithersburg\, 2 Montgomery Village Avenue\, Gaithersburg\, 20886\, United States
CATEGORIES:Chapter Event,Open to Members, Visitors, & Guests,Weekly Meeting
GEO:39.1539887;-77.2118207
X-APPLE-STRUCTURED-LOCATION;VALUE=URI;X-ADDRESS=Holiday Inn Gaithersburg 2 Montgomery Village Avenue Gaithersburg 20886 United States;X-APPLE-RADIUS=500;X-TITLE=2 Montgomery Village Avenue:geo:-77.2118207,39.1539887
END:VEVENT
BEGIN:VEVENT
DTSTART;TZID=America/New_York:20170920T071500
DTEND;TZID=America/New_York:20170920T090000
DTSTAMP:20260420T061858
CREATED:20170223T032252Z
LAST-MODIFIED:20220909T161200Z
UID:10000145-1505891700-1505898000@www.professionalnetworkingalliance.com
SUMMARY:Weekly Meeting (Open)
DESCRIPTION:
URL:https://www.professionalnetworkingalliance.com/event/weekly-meeting-open/2017-09-20/
LOCATION:Holiday Inn\, Gaithersburg\, 2 Montgomery Village Avenue\, Gaithersburg\, 20886\, United States
CATEGORIES:Chapter Event,Open to Members, Visitors, & Guests,Weekly Meeting
GEO:39.1539887;-77.2118207
X-APPLE-STRUCTURED-LOCATION;VALUE=URI;X-ADDRESS=Holiday Inn Gaithersburg 2 Montgomery Village Avenue Gaithersburg 20886 United States;X-APPLE-RADIUS=500;X-TITLE=2 Montgomery Village Avenue:geo:-77.2118207,39.1539887
END:VEVENT
BEGIN:VEVENT
DTSTART;TZID=America/New_York:20170913T071500
DTEND;TZID=America/New_York:20170913T090000
DTSTAMP:20260420T061858
CREATED:20170223T032252Z
LAST-MODIFIED:20220909T161200Z
UID:10000144-1505286900-1505293200@www.professionalnetworkingalliance.com
SUMMARY:Weekly Meeting (Open)
DESCRIPTION:
URL:https://www.professionalnetworkingalliance.com/event/weekly-meeting-open/2017-09-13/
LOCATION:Holiday Inn\, Gaithersburg\, 2 Montgomery Village Avenue\, Gaithersburg\, 20886\, United States
CATEGORIES:Chapter Event,Open to Members, Visitors, & Guests,Weekly Meeting
GEO:39.1539887;-77.2118207
X-APPLE-STRUCTURED-LOCATION;VALUE=URI;X-ADDRESS=Holiday Inn Gaithersburg 2 Montgomery Village Avenue Gaithersburg 20886 United States;X-APPLE-RADIUS=500;X-TITLE=2 Montgomery Village Avenue:geo:-77.2118207,39.1539887
END:VEVENT
BEGIN:VEVENT
DTSTART;TZID=America/New_York:20170906T071500
DTEND;TZID=America/New_York:20170906T090000
DTSTAMP:20260420T061858
CREATED:20170223T032252Z
LAST-MODIFIED:20220909T161200Z
UID:10000143-1504682100-1504688400@www.professionalnetworkingalliance.com
SUMMARY:Weekly Meeting (Open)
DESCRIPTION:
URL:https://www.professionalnetworkingalliance.com/event/weekly-meeting-open/2017-09-06/
LOCATION:Holiday Inn\, Gaithersburg\, 2 Montgomery Village Avenue\, Gaithersburg\, 20886\, United States
CATEGORIES:Chapter Event,Open to Members, Visitors, & Guests,Weekly Meeting
GEO:39.1539887;-77.2118207
X-APPLE-STRUCTURED-LOCATION;VALUE=URI;X-ADDRESS=Holiday Inn Gaithersburg 2 Montgomery Village Avenue Gaithersburg 20886 United States;X-APPLE-RADIUS=500;X-TITLE=2 Montgomery Village Avenue:geo:-77.2118207,39.1539887
END:VEVENT
BEGIN:VEVENT
DTSTART;TZID=America/New_York:20170830T071500
DTEND;TZID=America/New_York:20170830T090000
DTSTAMP:20260420T061858
CREATED:20170223T032252Z
LAST-MODIFIED:20220909T161200Z
UID:10000142-1504077300-1504083600@www.professionalnetworkingalliance.com
SUMMARY:Weekly Meeting (Open)
DESCRIPTION:
URL:https://www.professionalnetworkingalliance.com/event/weekly-meeting-open/2017-08-30/
LOCATION:Holiday Inn\, Gaithersburg\, 2 Montgomery Village Avenue\, Gaithersburg\, 20886\, United States
CATEGORIES:Chapter Event,Open to Members, Visitors, & Guests,Weekly Meeting
GEO:39.1539887;-77.2118207
X-APPLE-STRUCTURED-LOCATION;VALUE=URI;X-ADDRESS=Holiday Inn Gaithersburg 2 Montgomery Village Avenue Gaithersburg 20886 United States;X-APPLE-RADIUS=500;X-TITLE=2 Montgomery Village Avenue:geo:-77.2118207,39.1539887
END:VEVENT
BEGIN:VEVENT
DTSTART;TZID=America/New_York:20170823T071500
DTEND;TZID=America/New_York:20170823T090000
DTSTAMP:20260420T061858
CREATED:20170223T032252Z
LAST-MODIFIED:20220909T161200Z
UID:10000141-1503472500-1503478800@www.professionalnetworkingalliance.com
SUMMARY:Weekly Meeting (Open)
DESCRIPTION:
URL:https://www.professionalnetworkingalliance.com/event/weekly-meeting-open/2017-08-23/
LOCATION:Holiday Inn\, Gaithersburg\, 2 Montgomery Village Avenue\, Gaithersburg\, 20886\, United States
CATEGORIES:Chapter Event,Open to Members, Visitors, & Guests,Weekly Meeting
GEO:39.1539887;-77.2118207
X-APPLE-STRUCTURED-LOCATION;VALUE=URI;X-ADDRESS=Holiday Inn Gaithersburg 2 Montgomery Village Avenue Gaithersburg 20886 United States;X-APPLE-RADIUS=500;X-TITLE=2 Montgomery Village Avenue:geo:-77.2118207,39.1539887
END:VEVENT
BEGIN:VEVENT
DTSTART;TZID=America/New_York:20170816T071500
DTEND;TZID=America/New_York:20170816T090000
DTSTAMP:20260420T061858
CREATED:20170223T032252Z
LAST-MODIFIED:20220909T161200Z
UID:10000140-1502867700-1502874000@www.professionalnetworkingalliance.com
SUMMARY:Weekly Meeting (Open)
DESCRIPTION:
URL:https://www.professionalnetworkingalliance.com/event/weekly-meeting-open/2017-08-16/
LOCATION:Holiday Inn\, Gaithersburg\, 2 Montgomery Village Avenue\, Gaithersburg\, 20886\, United States
CATEGORIES:Chapter Event,Open to Members, Visitors, & Guests,Weekly Meeting
GEO:39.1539887;-77.2118207
X-APPLE-STRUCTURED-LOCATION;VALUE=URI;X-ADDRESS=Holiday Inn Gaithersburg 2 Montgomery Village Avenue Gaithersburg 20886 United States;X-APPLE-RADIUS=500;X-TITLE=2 Montgomery Village Avenue:geo:-77.2118207,39.1539887
END:VEVENT
BEGIN:VEVENT
DTSTART;TZID=America/New_York:20170809T170000
DTEND;TZID=America/New_York:20170809T190000
DTSTAMP:20260420T061858
CREATED:20170731T170256Z
LAST-MODIFIED:20170731T170256Z
UID:10000099-1502298000-1502305200@www.professionalnetworkingalliance.com
SUMMARY:August Networking Happy Hour
DESCRIPTION:
URL:https://www.professionalnetworkingalliance.com/event/august-networking-happy-hour/
LOCATION:Boca Botanas Tapas Bar\, 239 Muddy Branch Rd\, Gaithersburg\, MD\, 20878\, United States
CATEGORIES:Happy Hour,Networking Event,Open to Members, Visitors, & Guests
ORGANIZER;CN="Matt Deeds":MAILTO:events@bniwednesday.com
GEO:39.1283098;-77.2086015
X-APPLE-STRUCTURED-LOCATION;VALUE=URI;X-ADDRESS=Boca Botanas Tapas Bar 239 Muddy Branch Rd Gaithersburg MD 20878 United States;X-APPLE-RADIUS=500;X-TITLE=239 Muddy Branch Rd:geo:-77.2086015,39.1283098
END:VEVENT
BEGIN:VEVENT
DTSTART;TZID=America/New_York:20170809T071500
DTEND;TZID=America/New_York:20170809T090000
DTSTAMP:20260420T061858
CREATED:20170223T032252Z
LAST-MODIFIED:20220909T161200Z
UID:10000139-1502262900-1502269200@www.professionalnetworkingalliance.com
SUMMARY:Weekly Meeting (Open)
DESCRIPTION:
URL:https://www.professionalnetworkingalliance.com/event/weekly-meeting-open/2017-08-09/
LOCATION:Holiday Inn\, Gaithersburg\, 2 Montgomery Village Avenue\, Gaithersburg\, 20886\, United States
CATEGORIES:Chapter Event,Open to Members, Visitors, & Guests,Weekly Meeting
GEO:39.1539887;-77.2118207
X-APPLE-STRUCTURED-LOCATION;VALUE=URI;X-ADDRESS=Holiday Inn Gaithersburg 2 Montgomery Village Avenue Gaithersburg 20886 United States;X-APPLE-RADIUS=500;X-TITLE=2 Montgomery Village Avenue:geo:-77.2118207,39.1539887
END:VEVENT
BEGIN:VEVENT
DTSTART;TZID=America/New_York:20170802T071500
DTEND;TZID=America/New_York:20170802T090000
DTSTAMP:20260420T061858
CREATED:20170223T032252Z
LAST-MODIFIED:20220909T161200Z
UID:10000138-1501658100-1501664400@www.professionalnetworkingalliance.com
SUMMARY:Weekly Meeting (Open)
DESCRIPTION:
URL:https://www.professionalnetworkingalliance.com/event/weekly-meeting-open/2017-08-02/
LOCATION:Holiday Inn\, Gaithersburg\, 2 Montgomery Village Avenue\, Gaithersburg\, 20886\, United States
CATEGORIES:Chapter Event,Open to Members, Visitors, & Guests,Weekly Meeting
GEO:39.1539887;-77.2118207
X-APPLE-STRUCTURED-LOCATION;VALUE=URI;X-ADDRESS=Holiday Inn Gaithersburg 2 Montgomery Village Avenue Gaithersburg 20886 United States;X-APPLE-RADIUS=500;X-TITLE=2 Montgomery Village Avenue:geo:-77.2118207,39.1539887
END:VEVENT
BEGIN:VEVENT
DTSTART;TZID=America/New_York:20170726T071500
DTEND;TZID=America/New_York:20170726T090000
DTSTAMP:20260420T061858
CREATED:20170223T032252Z
LAST-MODIFIED:20220909T161200Z
UID:10000137-1501053300-1501059600@www.professionalnetworkingalliance.com
SUMMARY:Weekly Meeting (Open)
DESCRIPTION:
URL:https://www.professionalnetworkingalliance.com/event/weekly-meeting-open/2017-07-26/
LOCATION:Holiday Inn\, Gaithersburg\, 2 Montgomery Village Avenue\, Gaithersburg\, 20886\, United States
CATEGORIES:Chapter Event,Open to Members, Visitors, & Guests,Weekly Meeting
GEO:39.1539887;-77.2118207
X-APPLE-STRUCTURED-LOCATION;VALUE=URI;X-ADDRESS=Holiday Inn Gaithersburg 2 Montgomery Village Avenue Gaithersburg 20886 United States;X-APPLE-RADIUS=500;X-TITLE=2 Montgomery Village Avenue:geo:-77.2118207,39.1539887
END:VEVENT
BEGIN:VEVENT
DTSTART;TZID=America/New_York:20170719T071500
DTEND;TZID=America/New_York:20170719T090000
DTSTAMP:20260420T061858
CREATED:20170223T032252Z
LAST-MODIFIED:20220909T161200Z
UID:10000136-1500448500-1500454800@www.professionalnetworkingalliance.com
SUMMARY:Weekly Meeting (Open)
DESCRIPTION:
URL:https://www.professionalnetworkingalliance.com/event/weekly-meeting-open/2017-07-19/
LOCATION:Holiday Inn\, Gaithersburg\, 2 Montgomery Village Avenue\, Gaithersburg\, 20886\, United States
CATEGORIES:Chapter Event,Open to Members, Visitors, & Guests,Weekly Meeting
GEO:39.1539887;-77.2118207
X-APPLE-STRUCTURED-LOCATION;VALUE=URI;X-ADDRESS=Holiday Inn Gaithersburg 2 Montgomery Village Avenue Gaithersburg 20886 United States;X-APPLE-RADIUS=500;X-TITLE=2 Montgomery Village Avenue:geo:-77.2118207,39.1539887
END:VEVENT
BEGIN:VEVENT
DTSTART;TZID=America/New_York:20170712T071500
DTEND;TZID=America/New_York:20170712T090000
DTSTAMP:20260420T061858
CREATED:20170223T032252Z
LAST-MODIFIED:20220909T161200Z
UID:10000135-1499843700-1499850000@www.professionalnetworkingalliance.com
SUMMARY:Weekly Meeting (Open)
DESCRIPTION:
URL:https://www.professionalnetworkingalliance.com/event/weekly-meeting-open/2017-07-12/
LOCATION:Holiday Inn\, Gaithersburg\, 2 Montgomery Village Avenue\, Gaithersburg\, 20886\, United States
CATEGORIES:Chapter Event,Open to Members, Visitors, & Guests,Weekly Meeting
GEO:39.1539887;-77.2118207
X-APPLE-STRUCTURED-LOCATION;VALUE=URI;X-ADDRESS=Holiday Inn Gaithersburg 2 Montgomery Village Avenue Gaithersburg 20886 United States;X-APPLE-RADIUS=500;X-TITLE=2 Montgomery Village Avenue:geo:-77.2118207,39.1539887
END:VEVENT
BEGIN:VEVENT
DTSTART;TZID=America/New_York:20170705T071500
DTEND;TZID=America/New_York:20170705T090000
DTSTAMP:20260420T061858
CREATED:20170223T032252Z
LAST-MODIFIED:20220909T161200Z
UID:10000134-1499238900-1499245200@www.professionalnetworkingalliance.com
SUMMARY:Weekly Meeting (Open)
DESCRIPTION:
URL:https://www.professionalnetworkingalliance.com/event/weekly-meeting-open/2017-07-05/
LOCATION:Holiday Inn\, Gaithersburg\, 2 Montgomery Village Avenue\, Gaithersburg\, 20886\, United States
CATEGORIES:Chapter Event,Open to Members, Visitors, & Guests,Weekly Meeting
GEO:39.1539887;-77.2118207
X-APPLE-STRUCTURED-LOCATION;VALUE=URI;X-ADDRESS=Holiday Inn Gaithersburg 2 Montgomery Village Avenue Gaithersburg 20886 United States;X-APPLE-RADIUS=500;X-TITLE=2 Montgomery Village Avenue:geo:-77.2118207,39.1539887
END:VEVENT
BEGIN:VEVENT
DTSTART;TZID=America/New_York:20170628T071500
DTEND;TZID=America/New_York:20170628T090000
DTSTAMP:20260420T061858
CREATED:20170223T032252Z
LAST-MODIFIED:20220909T161200Z
UID:10000133-1498634100-1498640400@www.professionalnetworkingalliance.com
SUMMARY:Weekly Meeting (Open)
DESCRIPTION:
URL:https://www.professionalnetworkingalliance.com/event/weekly-meeting-open/2017-06-28/
LOCATION:Holiday Inn\, Gaithersburg\, 2 Montgomery Village Avenue\, Gaithersburg\, 20886\, United States
CATEGORIES:Chapter Event,Open to Members, Visitors, & Guests,Weekly Meeting
GEO:39.1539887;-77.2118207
X-APPLE-STRUCTURED-LOCATION;VALUE=URI;X-ADDRESS=Holiday Inn Gaithersburg 2 Montgomery Village Avenue Gaithersburg 20886 United States;X-APPLE-RADIUS=500;X-TITLE=2 Montgomery Village Avenue:geo:-77.2118207,39.1539887
END:VEVENT
BEGIN:VEVENT
DTSTART;TZID=America/New_York:20170621T071500
DTEND;TZID=America/New_York:20170621T090000
DTSTAMP:20260420T061858
CREATED:20170223T032252Z
LAST-MODIFIED:20220909T161200Z
UID:10000132-1498029300-1498035600@www.professionalnetworkingalliance.com
SUMMARY:Weekly Meeting (Open)
DESCRIPTION:
URL:https://www.professionalnetworkingalliance.com/event/weekly-meeting-open/2017-06-21/
LOCATION:Holiday Inn\, Gaithersburg\, 2 Montgomery Village Avenue\, Gaithersburg\, 20886\, United States
CATEGORIES:Chapter Event,Open to Members, Visitors, & Guests,Weekly Meeting
GEO:39.1539887;-77.2118207
X-APPLE-STRUCTURED-LOCATION;VALUE=URI;X-ADDRESS=Holiday Inn Gaithersburg 2 Montgomery Village Avenue Gaithersburg 20886 United States;X-APPLE-RADIUS=500;X-TITLE=2 Montgomery Village Avenue:geo:-77.2118207,39.1539887
END:VEVENT
BEGIN:VEVENT
DTSTART;TZID=America/New_York:20170614T071500
DTEND;TZID=America/New_York:20170614T090000
DTSTAMP:20260420T061858
CREATED:20170223T032252Z
LAST-MODIFIED:20220909T161200Z
UID:10000131-1497424500-1497430800@www.professionalnetworkingalliance.com
SUMMARY:Weekly Meeting (Open)
DESCRIPTION:
URL:https://www.professionalnetworkingalliance.com/event/weekly-meeting-open/2017-06-14/
LOCATION:Holiday Inn\, Gaithersburg\, 2 Montgomery Village Avenue\, Gaithersburg\, 20886\, United States
CATEGORIES:Chapter Event,Open to Members, Visitors, & Guests,Weekly Meeting
GEO:39.1539887;-77.2118207
X-APPLE-STRUCTURED-LOCATION;VALUE=URI;X-ADDRESS=Holiday Inn Gaithersburg 2 Montgomery Village Avenue Gaithersburg 20886 United States;X-APPLE-RADIUS=500;X-TITLE=2 Montgomery Village Avenue:geo:-77.2118207,39.1539887
END:VEVENT
BEGIN:VEVENT
DTSTART;TZID=America/New_York:20170608T170000
DTEND;TZID=America/New_York:20170608T190000
DTSTAMP:20260420T061858
CREATED:20170531T165200Z
LAST-MODIFIED:20170531T165851Z
UID:10000101-1496941200-1496948400@www.professionalnetworkingalliance.com
SUMMARY:June 2017 Happy Hour
DESCRIPTION:Come join us for a few hours of networking\, snacks\, and fun.  The event details are below and all are welcome to join! \nPlease register on our Eventbrite page so that we know how many people to expect!  https://www.eventbrite.com/e/bni-referral-alliance-june-happy-hour-tickets-35011804249 \n 
URL:https://www.professionalnetworkingalliance.com/event/june-2017-happy-hour/
LOCATION:Not Your Average Joes\, 245 Kentlands Boulevard \, Gaithersburg\, MD\, 20878\, United States
CATEGORIES:Happy Hour,Open to Members, Visitors, & Guests
ATTACH;FMTTYPE=image/jpeg:https://www.professionalnetworkingalliance.com/wp-content/uploads/2017/05/5_Dining_PatioWall_DSF2932.jpg
ORGANIZER;CN="Matt Deeds":MAILTO:events@bniwednesday.com
GEO:39.1247294;-77.2416942
X-APPLE-STRUCTURED-LOCATION;VALUE=URI;X-ADDRESS=Not Your Average Joes 245 Kentlands Boulevard  Gaithersburg MD 20878 United States;X-APPLE-RADIUS=500;X-TITLE=245 Kentlands Boulevard:geo:-77.2416942,39.1247294
END:VEVENT
BEGIN:VEVENT
DTSTART;TZID=America/New_York:20170607T071500
DTEND;TZID=America/New_York:20170607T090000
DTSTAMP:20260420T061858
CREATED:20170223T032252Z
LAST-MODIFIED:20220909T161200Z
UID:10000130-1496819700-1496826000@www.professionalnetworkingalliance.com
SUMMARY:Weekly Meeting (Open)
DESCRIPTION:
URL:https://www.professionalnetworkingalliance.com/event/weekly-meeting-open/2017-06-07/
LOCATION:Holiday Inn\, Gaithersburg\, 2 Montgomery Village Avenue\, Gaithersburg\, 20886\, United States
CATEGORIES:Chapter Event,Open to Members, Visitors, & Guests,Weekly Meeting
GEO:39.1539887;-77.2118207
X-APPLE-STRUCTURED-LOCATION;VALUE=URI;X-ADDRESS=Holiday Inn Gaithersburg 2 Montgomery Village Avenue Gaithersburg 20886 United States;X-APPLE-RADIUS=500;X-TITLE=2 Montgomery Village Avenue:geo:-77.2118207,39.1539887
END:VEVENT
BEGIN:VEVENT
DTSTART;TZID=America/New_York:20170531T071500
DTEND;TZID=America/New_York:20170531T090000
DTSTAMP:20260420T061858
CREATED:20170223T032252Z
LAST-MODIFIED:20220909T161200Z
UID:10000129-1496214900-1496221200@www.professionalnetworkingalliance.com
SUMMARY:Weekly Meeting (Open)
DESCRIPTION:
URL:https://www.professionalnetworkingalliance.com/event/weekly-meeting-open/2017-05-31/
LOCATION:Holiday Inn\, Gaithersburg\, 2 Montgomery Village Avenue\, Gaithersburg\, 20886\, United States
CATEGORIES:Chapter Event,Open to Members, Visitors, & Guests,Weekly Meeting
GEO:39.1539887;-77.2118207
X-APPLE-STRUCTURED-LOCATION;VALUE=URI;X-ADDRESS=Holiday Inn Gaithersburg 2 Montgomery Village Avenue Gaithersburg 20886 United States;X-APPLE-RADIUS=500;X-TITLE=2 Montgomery Village Avenue:geo:-77.2118207,39.1539887
END:VEVENT
BEGIN:VEVENT
DTSTART;TZID=America/New_York:20170524T071500
DTEND;TZID=America/New_York:20170524T090000
DTSTAMP:20260420T061858
CREATED:20170223T032252Z
LAST-MODIFIED:20220909T161200Z
UID:10000128-1495610100-1495616400@www.professionalnetworkingalliance.com
SUMMARY:Weekly Meeting (Open)
DESCRIPTION:
URL:https://www.professionalnetworkingalliance.com/event/weekly-meeting-open/2017-05-24/
LOCATION:Holiday Inn\, Gaithersburg\, 2 Montgomery Village Avenue\, Gaithersburg\, 20886\, United States
CATEGORIES:Chapter Event,Open to Members, Visitors, & Guests,Weekly Meeting
GEO:39.1539887;-77.2118207
X-APPLE-STRUCTURED-LOCATION;VALUE=URI;X-ADDRESS=Holiday Inn Gaithersburg 2 Montgomery Village Avenue Gaithersburg 20886 United States;X-APPLE-RADIUS=500;X-TITLE=2 Montgomery Village Avenue:geo:-77.2118207,39.1539887
END:VEVENT
BEGIN:VEVENT
DTSTART;TZID=America/New_York:20170517T071500
DTEND;TZID=America/New_York:20170517T090000
DTSTAMP:20260420T061858
CREATED:20170223T032252Z
LAST-MODIFIED:20220909T161200Z
UID:10000127-1495005300-1495011600@www.professionalnetworkingalliance.com
SUMMARY:Weekly Meeting (Open)
DESCRIPTION:
URL:https://www.professionalnetworkingalliance.com/event/weekly-meeting-open/2017-05-17/
LOCATION:Holiday Inn\, Gaithersburg\, 2 Montgomery Village Avenue\, Gaithersburg\, 20886\, United States
CATEGORIES:Chapter Event,Open to Members, Visitors, & Guests,Weekly Meeting
GEO:39.1539887;-77.2118207
X-APPLE-STRUCTURED-LOCATION;VALUE=URI;X-ADDRESS=Holiday Inn Gaithersburg 2 Montgomery Village Avenue Gaithersburg 20886 United States;X-APPLE-RADIUS=500;X-TITLE=2 Montgomery Village Avenue:geo:-77.2118207,39.1539887
END:VEVENT
BEGIN:VEVENT
DTSTART;TZID=America/New_York:20170510T071500
DTEND;TZID=America/New_York:20170510T090000
DTSTAMP:20260420T061858
CREATED:20170223T032252Z
LAST-MODIFIED:20220909T161200Z
UID:10000126-1494400500-1494406800@www.professionalnetworkingalliance.com
SUMMARY:Weekly Meeting (Open)
DESCRIPTION:
URL:https://www.professionalnetworkingalliance.com/event/weekly-meeting-open/2017-05-10/
LOCATION:Holiday Inn\, Gaithersburg\, 2 Montgomery Village Avenue\, Gaithersburg\, 20886\, United States
CATEGORIES:Chapter Event,Open to Members, Visitors, & Guests,Weekly Meeting
GEO:39.1539887;-77.2118207
X-APPLE-STRUCTURED-LOCATION;VALUE=URI;X-ADDRESS=Holiday Inn Gaithersburg 2 Montgomery Village Avenue Gaithersburg 20886 United States;X-APPLE-RADIUS=500;X-TITLE=2 Montgomery Village Avenue:geo:-77.2118207,39.1539887
END:VEVENT
END:VCALENDAR