BEGIN:VCALENDAR
VERSION:2.0
PRODID:-//Professional Networking Alliance - ECPv6.15.20//NONSGML v1.0//EN
CALSCALE:GREGORIAN
METHOD:PUBLISH
X-ORIGINAL-URL:https://www.professionalnetworkingalliance.com
X-WR-CALDESC:Events for Professional Networking Alliance
REFRESH-INTERVAL;VALUE=DURATION:PT1H
X-Robots-Tag:noindex
X-PUBLISHED-TTL:PT1H
BEGIN:VTIMEZONE
TZID:America/New_York
BEGIN:DAYLIGHT
TZOFFSETFROM:-0500
TZOFFSETTO:-0400
TZNAME:EDT
DTSTART:20160313T070000
END:DAYLIGHT
BEGIN:STANDARD
TZOFFSETFROM:-0400
TZOFFSETTO:-0500
TZNAME:EST
DTSTART:20161106T060000
END:STANDARD
BEGIN:DAYLIGHT
TZOFFSETFROM:-0500
TZOFFSETTO:-0400
TZNAME:EDT
DTSTART:20170312T070000
END:DAYLIGHT
BEGIN:STANDARD
TZOFFSETFROM:-0400
TZOFFSETTO:-0500
TZNAME:EST
DTSTART:20171105T060000
END:STANDARD
BEGIN:DAYLIGHT
TZOFFSETFROM:-0500
TZOFFSETTO:-0400
TZNAME:EDT
DTSTART:20180311T070000
END:DAYLIGHT
BEGIN:STANDARD
TZOFFSETFROM:-0400
TZOFFSETTO:-0500
TZNAME:EST
DTSTART:20181104T060000
END:STANDARD
END:VTIMEZONE
BEGIN:VEVENT
DTSTART;TZID=America/New_York:20170503T071500
DTEND;TZID=America/New_York:20170503T090000
DTSTAMP:20260420T104738
CREATED:20170223T032252Z
LAST-MODIFIED:20220909T161200Z
UID:10000125-1493795700-1493802000@www.professionalnetworkingalliance.com
SUMMARY:Weekly Meeting (Open)
DESCRIPTION:
URL:https://www.professionalnetworkingalliance.com/event/weekly-meeting-open/2017-05-03/
LOCATION:Holiday Inn\, Gaithersburg\, 2 Montgomery Village Avenue\, Gaithersburg\, 20886\, United States
CATEGORIES:Chapter Event,Open to Members, Visitors, & Guests,Weekly Meeting
GEO:39.1539887;-77.2118207
X-APPLE-STRUCTURED-LOCATION;VALUE=URI;X-ADDRESS=Holiday Inn Gaithersburg 2 Montgomery Village Avenue Gaithersburg 20886 United States;X-APPLE-RADIUS=500;X-TITLE=2 Montgomery Village Avenue:geo:-77.2118207,39.1539887
END:VEVENT
BEGIN:VEVENT
DTSTART;TZID=America/New_York:20170426T071500
DTEND;TZID=America/New_York:20170426T090000
DTSTAMP:20260420T104738
CREATED:20170223T032252Z
LAST-MODIFIED:20220909T161200Z
UID:10000124-1493190900-1493197200@www.professionalnetworkingalliance.com
SUMMARY:Weekly Meeting (Open)
DESCRIPTION:
URL:https://www.professionalnetworkingalliance.com/event/weekly-meeting-open/2017-04-26/
LOCATION:Holiday Inn\, Gaithersburg\, 2 Montgomery Village Avenue\, Gaithersburg\, 20886\, United States
CATEGORIES:Chapter Event,Open to Members, Visitors, & Guests,Weekly Meeting
GEO:39.1539887;-77.2118207
X-APPLE-STRUCTURED-LOCATION;VALUE=URI;X-ADDRESS=Holiday Inn Gaithersburg 2 Montgomery Village Avenue Gaithersburg 20886 United States;X-APPLE-RADIUS=500;X-TITLE=2 Montgomery Village Avenue:geo:-77.2118207,39.1539887
END:VEVENT
BEGIN:VEVENT
DTSTART;TZID=America/New_York:20170419T071500
DTEND;TZID=America/New_York:20170419T090000
DTSTAMP:20260420T104738
CREATED:20170223T032252Z
LAST-MODIFIED:20220909T161200Z
UID:10000123-1492586100-1492592400@www.professionalnetworkingalliance.com
SUMMARY:Weekly Meeting (Open)
DESCRIPTION:
URL:https://www.professionalnetworkingalliance.com/event/weekly-meeting-open/2017-04-19/
LOCATION:Holiday Inn\, Gaithersburg\, 2 Montgomery Village Avenue\, Gaithersburg\, 20886\, United States
CATEGORIES:Chapter Event,Open to Members, Visitors, & Guests,Weekly Meeting
GEO:39.1539887;-77.2118207
X-APPLE-STRUCTURED-LOCATION;VALUE=URI;X-ADDRESS=Holiday Inn Gaithersburg 2 Montgomery Village Avenue Gaithersburg 20886 United States;X-APPLE-RADIUS=500;X-TITLE=2 Montgomery Village Avenue:geo:-77.2118207,39.1539887
END:VEVENT
BEGIN:VEVENT
DTSTART;TZID=America/New_York:20170412T071500
DTEND;TZID=America/New_York:20170412T090000
DTSTAMP:20260420T104738
CREATED:20170223T032252Z
LAST-MODIFIED:20220909T161200Z
UID:10000122-1491981300-1491987600@www.professionalnetworkingalliance.com
SUMMARY:Weekly Meeting (Open)
DESCRIPTION:
URL:https://www.professionalnetworkingalliance.com/event/weekly-meeting-open/2017-04-12/
LOCATION:Holiday Inn\, Gaithersburg\, 2 Montgomery Village Avenue\, Gaithersburg\, 20886\, United States
CATEGORIES:Chapter Event,Open to Members, Visitors, & Guests,Weekly Meeting
GEO:39.1539887;-77.2118207
X-APPLE-STRUCTURED-LOCATION;VALUE=URI;X-ADDRESS=Holiday Inn Gaithersburg 2 Montgomery Village Avenue Gaithersburg 20886 United States;X-APPLE-RADIUS=500;X-TITLE=2 Montgomery Village Avenue:geo:-77.2118207,39.1539887
END:VEVENT
BEGIN:VEVENT
DTSTART;TZID=America/New_York:20170405T071500
DTEND;TZID=America/New_York:20170405T090000
DTSTAMP:20260420T104738
CREATED:20170223T032252Z
LAST-MODIFIED:20220909T161200Z
UID:10000121-1491376500-1491382800@www.professionalnetworkingalliance.com
SUMMARY:Weekly Meeting (Open)
DESCRIPTION:
URL:https://www.professionalnetworkingalliance.com/event/weekly-meeting-open/2017-04-05/
LOCATION:Holiday Inn\, Gaithersburg\, 2 Montgomery Village Avenue\, Gaithersburg\, 20886\, United States
CATEGORIES:Chapter Event,Open to Members, Visitors, & Guests,Weekly Meeting
GEO:39.1539887;-77.2118207
X-APPLE-STRUCTURED-LOCATION;VALUE=URI;X-ADDRESS=Holiday Inn Gaithersburg 2 Montgomery Village Avenue Gaithersburg 20886 United States;X-APPLE-RADIUS=500;X-TITLE=2 Montgomery Village Avenue:geo:-77.2118207,39.1539887
END:VEVENT
BEGIN:VEVENT
DTSTART;TZID=America/New_York:20170329T071500
DTEND;TZID=America/New_York:20170329T090000
DTSTAMP:20260420T104738
CREATED:20170223T032252Z
LAST-MODIFIED:20220909T161200Z
UID:10000120-1490771700-1490778000@www.professionalnetworkingalliance.com
SUMMARY:Weekly Meeting (Open)
DESCRIPTION:
URL:https://www.professionalnetworkingalliance.com/event/weekly-meeting-open/2017-03-29/
LOCATION:Holiday Inn\, Gaithersburg\, 2 Montgomery Village Avenue\, Gaithersburg\, 20886\, United States
CATEGORIES:Chapter Event,Open to Members, Visitors, & Guests,Weekly Meeting
GEO:39.1539887;-77.2118207
X-APPLE-STRUCTURED-LOCATION;VALUE=URI;X-ADDRESS=Holiday Inn Gaithersburg 2 Montgomery Village Avenue Gaithersburg 20886 United States;X-APPLE-RADIUS=500;X-TITLE=2 Montgomery Village Avenue:geo:-77.2118207,39.1539887
END:VEVENT
BEGIN:VEVENT
DTSTART;TZID=America/New_York:20170322T071500
DTEND;TZID=America/New_York:20170322T090000
DTSTAMP:20260420T104738
CREATED:20170223T032252Z
LAST-MODIFIED:20220909T161200Z
UID:10000119-1490166900-1490173200@www.professionalnetworkingalliance.com
SUMMARY:Weekly Meeting (Open)
DESCRIPTION:
URL:https://www.professionalnetworkingalliance.com/event/weekly-meeting-open/2017-03-22/
LOCATION:Holiday Inn\, Gaithersburg\, 2 Montgomery Village Avenue\, Gaithersburg\, 20886\, United States
CATEGORIES:Chapter Event,Open to Members, Visitors, & Guests,Weekly Meeting
GEO:39.1539887;-77.2118207
X-APPLE-STRUCTURED-LOCATION;VALUE=URI;X-ADDRESS=Holiday Inn Gaithersburg 2 Montgomery Village Avenue Gaithersburg 20886 United States;X-APPLE-RADIUS=500;X-TITLE=2 Montgomery Village Avenue:geo:-77.2118207,39.1539887
END:VEVENT
BEGIN:VEVENT
DTSTART;TZID=America/New_York:20170315T071500
DTEND;TZID=America/New_York:20170315T090000
DTSTAMP:20260420T104738
CREATED:20170223T032252Z
LAST-MODIFIED:20220909T161200Z
UID:10000118-1489562100-1489568400@www.professionalnetworkingalliance.com
SUMMARY:Weekly Meeting (Open)
DESCRIPTION:
URL:https://www.professionalnetworkingalliance.com/event/weekly-meeting-open/2017-03-15/
LOCATION:Holiday Inn\, Gaithersburg\, 2 Montgomery Village Avenue\, Gaithersburg\, 20886\, United States
CATEGORIES:Chapter Event,Open to Members, Visitors, & Guests,Weekly Meeting
GEO:39.1539887;-77.2118207
X-APPLE-STRUCTURED-LOCATION;VALUE=URI;X-ADDRESS=Holiday Inn Gaithersburg 2 Montgomery Village Avenue Gaithersburg 20886 United States;X-APPLE-RADIUS=500;X-TITLE=2 Montgomery Village Avenue:geo:-77.2118207,39.1539887
END:VEVENT
BEGIN:VEVENT
DTSTART;TZID=America/New_York:20170308T071500
DTEND;TZID=America/New_York:20170308T090000
DTSTAMP:20260420T104738
CREATED:20170223T032252Z
LAST-MODIFIED:20220909T161200Z
UID:10000117-1488957300-1488963600@www.professionalnetworkingalliance.com
SUMMARY:Weekly Meeting (Open)
DESCRIPTION:
URL:https://www.professionalnetworkingalliance.com/event/weekly-meeting-open/2017-03-08/
LOCATION:Holiday Inn\, Gaithersburg\, 2 Montgomery Village Avenue\, Gaithersburg\, 20886\, United States
CATEGORIES:Chapter Event,Open to Members, Visitors, & Guests,Weekly Meeting
GEO:39.1539887;-77.2118207
X-APPLE-STRUCTURED-LOCATION;VALUE=URI;X-ADDRESS=Holiday Inn Gaithersburg 2 Montgomery Village Avenue Gaithersburg 20886 United States;X-APPLE-RADIUS=500;X-TITLE=2 Montgomery Village Avenue:geo:-77.2118207,39.1539887
END:VEVENT
BEGIN:VEVENT
DTSTART;TZID=America/New_York:20170301T071500
DTEND;TZID=America/New_York:20170301T090000
DTSTAMP:20260420T104738
CREATED:20170223T032252Z
LAST-MODIFIED:20220909T161200Z
UID:10000116-1488352500-1488358800@www.professionalnetworkingalliance.com
SUMMARY:Weekly Meeting (Open)
DESCRIPTION:
URL:https://www.professionalnetworkingalliance.com/event/weekly-meeting-open/2017-03-01/
LOCATION:Holiday Inn\, Gaithersburg\, 2 Montgomery Village Avenue\, Gaithersburg\, 20886\, United States
CATEGORIES:Chapter Event,Open to Members, Visitors, & Guests,Weekly Meeting
GEO:39.1539887;-77.2118207
X-APPLE-STRUCTURED-LOCATION;VALUE=URI;X-ADDRESS=Holiday Inn Gaithersburg 2 Montgomery Village Avenue Gaithersburg 20886 United States;X-APPLE-RADIUS=500;X-TITLE=2 Montgomery Village Avenue:geo:-77.2118207,39.1539887
END:VEVENT
BEGIN:VEVENT
DTSTART;TZID=America/New_York:20170222T071500
DTEND;TZID=America/New_York:20170222T090000
DTSTAMP:20260420T104738
CREATED:20170223T032252Z
LAST-MODIFIED:20220909T161200Z
UID:10000115-1487747700-1487754000@www.professionalnetworkingalliance.com
SUMMARY:Weekly Meeting (Open)
DESCRIPTION:
URL:https://www.professionalnetworkingalliance.com/event/weekly-meeting-open/2017-02-22/
LOCATION:Holiday Inn\, Gaithersburg\, 2 Montgomery Village Avenue\, Gaithersburg\, 20886\, United States
CATEGORIES:Chapter Event,Open to Members, Visitors, & Guests,Weekly Meeting
GEO:39.1539887;-77.2118207
X-APPLE-STRUCTURED-LOCATION;VALUE=URI;X-ADDRESS=Holiday Inn Gaithersburg 2 Montgomery Village Avenue Gaithersburg 20886 United States;X-APPLE-RADIUS=500;X-TITLE=2 Montgomery Village Avenue:geo:-77.2118207,39.1539887
END:VEVENT
BEGIN:VEVENT
DTSTART;TZID=America/New_York:20170215T071500
DTEND;TZID=America/New_York:20170215T090000
DTSTAMP:20260420T104738
CREATED:20170223T032252Z
LAST-MODIFIED:20220909T161200Z
UID:10000114-1487142900-1487149200@www.professionalnetworkingalliance.com
SUMMARY:Weekly Meeting (Open)
DESCRIPTION:
URL:https://www.professionalnetworkingalliance.com/event/weekly-meeting-open/2017-02-15/
LOCATION:Holiday Inn\, Gaithersburg\, 2 Montgomery Village Avenue\, Gaithersburg\, 20886\, United States
CATEGORIES:Chapter Event,Open to Members, Visitors, & Guests,Weekly Meeting
GEO:39.1539887;-77.2118207
X-APPLE-STRUCTURED-LOCATION;VALUE=URI;X-ADDRESS=Holiday Inn Gaithersburg 2 Montgomery Village Avenue Gaithersburg 20886 United States;X-APPLE-RADIUS=500;X-TITLE=2 Montgomery Village Avenue:geo:-77.2118207,39.1539887
END:VEVENT
BEGIN:VEVENT
DTSTART;TZID=America/New_York:20170208T071500
DTEND;TZID=America/New_York:20170208T090000
DTSTAMP:20260420T104738
CREATED:20170223T032252Z
LAST-MODIFIED:20220909T161200Z
UID:10000113-1486538100-1486544400@www.professionalnetworkingalliance.com
SUMMARY:Weekly Meeting (Open)
DESCRIPTION:
URL:https://www.professionalnetworkingalliance.com/event/weekly-meeting-open/2017-02-08/
LOCATION:Holiday Inn\, Gaithersburg\, 2 Montgomery Village Avenue\, Gaithersburg\, 20886\, United States
CATEGORIES:Chapter Event,Open to Members, Visitors, & Guests,Weekly Meeting
GEO:39.1539887;-77.2118207
X-APPLE-STRUCTURED-LOCATION;VALUE=URI;X-ADDRESS=Holiday Inn Gaithersburg 2 Montgomery Village Avenue Gaithersburg 20886 United States;X-APPLE-RADIUS=500;X-TITLE=2 Montgomery Village Avenue:geo:-77.2118207,39.1539887
END:VEVENT
BEGIN:VEVENT
DTSTART;TZID=America/New_York:20170201T071500
DTEND;TZID=America/New_York:20170201T090000
DTSTAMP:20260420T104738
CREATED:20170223T032252Z
LAST-MODIFIED:20220909T161200Z
UID:10000112-1485933300-1485939600@www.professionalnetworkingalliance.com
SUMMARY:Weekly Meeting (Open)
DESCRIPTION:
URL:https://www.professionalnetworkingalliance.com/event/weekly-meeting-open/2017-02-01/
LOCATION:Holiday Inn\, Gaithersburg\, 2 Montgomery Village Avenue\, Gaithersburg\, 20886\, United States
CATEGORIES:Chapter Event,Open to Members, Visitors, & Guests,Weekly Meeting
GEO:39.1539887;-77.2118207
X-APPLE-STRUCTURED-LOCATION;VALUE=URI;X-ADDRESS=Holiday Inn Gaithersburg 2 Montgomery Village Avenue Gaithersburg 20886 United States;X-APPLE-RADIUS=500;X-TITLE=2 Montgomery Village Avenue:geo:-77.2118207,39.1539887
END:VEVENT
BEGIN:VEVENT
DTSTART;TZID=America/New_York:20170125T071500
DTEND;TZID=America/New_York:20170125T090000
DTSTAMP:20260420T104738
CREATED:20170223T032252Z
LAST-MODIFIED:20220909T161200Z
UID:10000111-1485328500-1485334800@www.professionalnetworkingalliance.com
SUMMARY:Weekly Meeting (Open)
DESCRIPTION:
URL:https://www.professionalnetworkingalliance.com/event/weekly-meeting-open/2017-01-25/
LOCATION:Holiday Inn\, Gaithersburg\, 2 Montgomery Village Avenue\, Gaithersburg\, 20886\, United States
CATEGORIES:Chapter Event,Open to Members, Visitors, & Guests,Weekly Meeting
GEO:39.1539887;-77.2118207
X-APPLE-STRUCTURED-LOCATION;VALUE=URI;X-ADDRESS=Holiday Inn Gaithersburg 2 Montgomery Village Avenue Gaithersburg 20886 United States;X-APPLE-RADIUS=500;X-TITLE=2 Montgomery Village Avenue:geo:-77.2118207,39.1539887
END:VEVENT
BEGIN:VEVENT
DTSTART;TZID=America/New_York:20170118T071500
DTEND;TZID=America/New_York:20170118T090000
DTSTAMP:20260420T104738
CREATED:20170223T032252Z
LAST-MODIFIED:20220909T161200Z
UID:10000110-1484723700-1484730000@www.professionalnetworkingalliance.com
SUMMARY:Weekly Meeting (Open)
DESCRIPTION:
URL:https://www.professionalnetworkingalliance.com/event/weekly-meeting-open/2017-01-18/
LOCATION:Holiday Inn\, Gaithersburg\, 2 Montgomery Village Avenue\, Gaithersburg\, 20886\, United States
CATEGORIES:Chapter Event,Open to Members, Visitors, & Guests,Weekly Meeting
GEO:39.1539887;-77.2118207
X-APPLE-STRUCTURED-LOCATION;VALUE=URI;X-ADDRESS=Holiday Inn Gaithersburg 2 Montgomery Village Avenue Gaithersburg 20886 United States;X-APPLE-RADIUS=500;X-TITLE=2 Montgomery Village Avenue:geo:-77.2118207,39.1539887
END:VEVENT
BEGIN:VEVENT
DTSTART;TZID=America/New_York:20170111T071500
DTEND;TZID=America/New_York:20170111T090000
DTSTAMP:20260420T104738
CREATED:20170223T032252Z
LAST-MODIFIED:20220909T161200Z
UID:10000109-1484118900-1484125200@www.professionalnetworkingalliance.com
SUMMARY:Weekly Meeting (Open)
DESCRIPTION:
URL:https://www.professionalnetworkingalliance.com/event/weekly-meeting-open/2017-01-11/
LOCATION:Holiday Inn\, Gaithersburg\, 2 Montgomery Village Avenue\, Gaithersburg\, 20886\, United States
CATEGORIES:Chapter Event,Open to Members, Visitors, & Guests,Weekly Meeting
GEO:39.1539887;-77.2118207
X-APPLE-STRUCTURED-LOCATION;VALUE=URI;X-ADDRESS=Holiday Inn Gaithersburg 2 Montgomery Village Avenue Gaithersburg 20886 United States;X-APPLE-RADIUS=500;X-TITLE=2 Montgomery Village Avenue:geo:-77.2118207,39.1539887
END:VEVENT
BEGIN:VEVENT
DTSTART;TZID=America/New_York:20170104T071500
DTEND;TZID=America/New_York:20170104T090000
DTSTAMP:20260420T104738
CREATED:20170223T032252Z
LAST-MODIFIED:20220909T161200Z
UID:10000108-1483514100-1483520400@www.professionalnetworkingalliance.com
SUMMARY:Weekly Meeting (Open)
DESCRIPTION:
URL:https://www.professionalnetworkingalliance.com/event/weekly-meeting-open/2017-01-04/
LOCATION:Holiday Inn\, Gaithersburg\, 2 Montgomery Village Avenue\, Gaithersburg\, 20886\, United States
CATEGORIES:Chapter Event,Open to Members, Visitors, & Guests,Weekly Meeting
GEO:39.1539887;-77.2118207
X-APPLE-STRUCTURED-LOCATION;VALUE=URI;X-ADDRESS=Holiday Inn Gaithersburg 2 Montgomery Village Avenue Gaithersburg 20886 United States;X-APPLE-RADIUS=500;X-TITLE=2 Montgomery Village Avenue:geo:-77.2118207,39.1539887
END:VEVENT
END:VCALENDAR