BEGIN:VCALENDAR
VERSION:2.0
PRODID:-//Professional Networking Alliance - ECPv6.15.20//NONSGML v1.0//EN
CALSCALE:GREGORIAN
METHOD:PUBLISH
X-ORIGINAL-URL:https://www.professionalnetworkingalliance.com
X-WR-CALDESC:Events for Professional Networking Alliance
REFRESH-INTERVAL;VALUE=DURATION:PT1H
X-Robots-Tag:noindex
X-PUBLISHED-TTL:PT1H
BEGIN:VTIMEZONE
TZID:America/New_York
BEGIN:DAYLIGHT
TZOFFSETFROM:-0500
TZOFFSETTO:-0400
TZNAME:EDT
DTSTART:20190310T070000
END:DAYLIGHT
BEGIN:STANDARD
TZOFFSETFROM:-0400
TZOFFSETTO:-0500
TZNAME:EST
DTSTART:20191103T060000
END:STANDARD
BEGIN:DAYLIGHT
TZOFFSETFROM:-0500
TZOFFSETTO:-0400
TZNAME:EDT
DTSTART:20200308T070000
END:DAYLIGHT
BEGIN:STANDARD
TZOFFSETFROM:-0400
TZOFFSETTO:-0500
TZNAME:EST
DTSTART:20201101T060000
END:STANDARD
BEGIN:DAYLIGHT
TZOFFSETFROM:-0500
TZOFFSETTO:-0400
TZNAME:EDT
DTSTART:20210314T070000
END:DAYLIGHT
BEGIN:STANDARD
TZOFFSETFROM:-0400
TZOFFSETTO:-0500
TZNAME:EST
DTSTART:20211107T060000
END:STANDARD
BEGIN:DAYLIGHT
TZOFFSETFROM:-0500
TZOFFSETTO:-0400
TZNAME:EDT
DTSTART:20220313T070000
END:DAYLIGHT
BEGIN:STANDARD
TZOFFSETFROM:-0400
TZOFFSETTO:-0500
TZNAME:EST
DTSTART:20221106T060000
END:STANDARD
END:VTIMEZONE
BEGIN:VEVENT
DTSTART;TZID=America/New_York:20211222T073000
DTEND;TZID=America/New_York:20211222T090000
DTSTAMP:20260419T132859
CREATED:20211006T181934Z
LAST-MODIFIED:20220201T190040Z
UID:10000207-1640158200-1640163600@www.professionalnetworkingalliance.com
SUMMARY:Weekly Meeting
DESCRIPTION:
URL:https://www.professionalnetworkingalliance.com/event/weekly-meeting-2021/2021-12-22/
LOCATION:Zoom
CATEGORIES:Open to Members, Visitors, & Guests,Weekly Meeting
ORGANIZER;CN="Virginia Tehrani":MAILTO:president@professionalnetworkingalliance.com
END:VEVENT
BEGIN:VEVENT
DTSTART;TZID=America/New_York:20211215T073000
DTEND;TZID=America/New_York:20211215T090000
DTSTAMP:20260419T132859
CREATED:20211006T181934Z
LAST-MODIFIED:20220201T190040Z
UID:10000206-1639553400-1639558800@www.professionalnetworkingalliance.com
SUMMARY:Weekly Meeting
DESCRIPTION:
URL:https://www.professionalnetworkingalliance.com/event/weekly-meeting-2021/2021-12-15/
LOCATION:Zoom
CATEGORIES:Open to Members, Visitors, & Guests,Weekly Meeting
ORGANIZER;CN="Virginia Tehrani":MAILTO:president@professionalnetworkingalliance.com
END:VEVENT
BEGIN:VEVENT
DTSTART;TZID=America/New_York:20211208T073000
DTEND;TZID=America/New_York:20211208T090000
DTSTAMP:20260419T132859
CREATED:20211006T181934Z
LAST-MODIFIED:20220201T190040Z
UID:10000205-1638948600-1638954000@www.professionalnetworkingalliance.com
SUMMARY:Weekly Meeting
DESCRIPTION:
URL:https://www.professionalnetworkingalliance.com/event/weekly-meeting-2021/2021-12-08/
LOCATION:Zoom
CATEGORIES:Open to Members, Visitors, & Guests,Weekly Meeting
ORGANIZER;CN="Virginia Tehrani":MAILTO:president@professionalnetworkingalliance.com
END:VEVENT
BEGIN:VEVENT
DTSTART;TZID=America/New_York:20211201T073000
DTEND;TZID=America/New_York:20211201T090000
DTSTAMP:20260419T132859
CREATED:20211006T181934Z
LAST-MODIFIED:20220201T190040Z
UID:10000204-1638343800-1638349200@www.professionalnetworkingalliance.com
SUMMARY:Weekly Meeting
DESCRIPTION:
URL:https://www.professionalnetworkingalliance.com/event/weekly-meeting-2021/2021-12-01/
LOCATION:Zoom
CATEGORIES:Open to Members, Visitors, & Guests,Weekly Meeting
ORGANIZER;CN="Virginia Tehrani":MAILTO:president@professionalnetworkingalliance.com
END:VEVENT
BEGIN:VEVENT
DTSTART;TZID=America/New_York:20211201T073000
DTEND;TZID=America/New_York:20211201T090000
DTSTAMP:20260419T132859
CREATED:20211006T181934Z
LAST-MODIFIED:20211210T164341Z
UID:10000228-1638343800-1638349200@www.professionalnetworkingalliance.com
SUMMARY:Weekly Meeting
DESCRIPTION:
URL:https://www.professionalnetworkingalliance.com/event/weekly-meeting-2021-2021-12-01/
LOCATION:Launch Workplaces\, 9841 Washingtonian Boulevard\, Suite 200\, Gaithersburg\, MD\, 20878\, United States
CATEGORIES:Open to Members, Visitors, & Guests,Weekly Meeting
ORGANIZER;CN="Virginia Tehrani":MAILTO:president@professionalnetworkingalliance.com
GEO:39.1169662;-77.1989719
X-APPLE-STRUCTURED-LOCATION;VALUE=URI;X-ADDRESS=Launch Workplaces 9841 Washingtonian Boulevard Suite 200 Gaithersburg MD 20878 United States;X-APPLE-RADIUS=500;X-TITLE=9841 Washingtonian Boulevard\, Suite 200:geo:-77.1989719,39.1169662
END:VEVENT
BEGIN:VEVENT
DTSTART;TZID=America/New_York:20211124T073000
DTEND;TZID=America/New_York:20211124T090000
DTSTAMP:20260419T132859
CREATED:20211006T181934Z
LAST-MODIFIED:20220201T190040Z
UID:10000203-1637739000-1637744400@www.professionalnetworkingalliance.com
SUMMARY:Weekly Meeting
DESCRIPTION:
URL:https://www.professionalnetworkingalliance.com/event/weekly-meeting-2021/2021-11-24/
LOCATION:Zoom
CATEGORIES:Open to Members, Visitors, & Guests,Weekly Meeting
ORGANIZER;CN="Virginia Tehrani":MAILTO:president@professionalnetworkingalliance.com
END:VEVENT
BEGIN:VEVENT
DTSTART;TZID=America/New_York:20211117T073000
DTEND;TZID=America/New_York:20211117T090000
DTSTAMP:20260419T132859
CREATED:20211006T181934Z
LAST-MODIFIED:20220201T190040Z
UID:10000202-1637134200-1637139600@www.professionalnetworkingalliance.com
SUMMARY:Weekly Meeting
DESCRIPTION:
URL:https://www.professionalnetworkingalliance.com/event/weekly-meeting-2021/2021-11-17/
LOCATION:Zoom
CATEGORIES:Open to Members, Visitors, & Guests,Weekly Meeting
ORGANIZER;CN="Virginia Tehrani":MAILTO:president@professionalnetworkingalliance.com
END:VEVENT
BEGIN:VEVENT
DTSTART;TZID=America/New_York:20211110T073000
DTEND;TZID=America/New_York:20211110T090000
DTSTAMP:20260419T132859
CREATED:20211006T181934Z
LAST-MODIFIED:20220201T190040Z
UID:10000201-1636529400-1636534800@www.professionalnetworkingalliance.com
SUMMARY:Weekly Meeting
DESCRIPTION:
URL:https://www.professionalnetworkingalliance.com/event/weekly-meeting-2021/2021-11-10/
LOCATION:Zoom
CATEGORIES:Open to Members, Visitors, & Guests,Weekly Meeting
ORGANIZER;CN="Virginia Tehrani":MAILTO:president@professionalnetworkingalliance.com
END:VEVENT
BEGIN:VEVENT
DTSTART;TZID=America/New_York:20211103T073000
DTEND;TZID=America/New_York:20211103T090000
DTSTAMP:20260419T132859
CREATED:20211006T181934Z
LAST-MODIFIED:20220201T190040Z
UID:10000200-1635924600-1635930000@www.professionalnetworkingalliance.com
SUMMARY:Weekly Meeting
DESCRIPTION:
URL:https://www.professionalnetworkingalliance.com/event/weekly-meeting-2021/2021-11-03/
LOCATION:Zoom
CATEGORIES:Open to Members, Visitors, & Guests,Weekly Meeting
ORGANIZER;CN="Virginia Tehrani":MAILTO:president@professionalnetworkingalliance.com
END:VEVENT
BEGIN:VEVENT
DTSTART;TZID=America/New_York:20211103T073000
DTEND;TZID=America/New_York:20211103T090000
DTSTAMP:20260419T132859
CREATED:20211006T181934Z
LAST-MODIFIED:20211101T133438Z
UID:10000229-1635924600-1635930000@www.professionalnetworkingalliance.com
SUMMARY:Weekly Meeting
DESCRIPTION:
URL:https://www.professionalnetworkingalliance.com/event/weekly-meeting-2021-2021-11-03/
LOCATION:Launch Workplaces\, 9841 Washingtonian Boulevard\, Suite 200\, Gaithersburg\, MD\, 20878\, United States
CATEGORIES:Open to Members, Visitors, & Guests,Weekly Meeting
ORGANIZER;CN="Virginia Tehrani":MAILTO:president@professionalnetworkingalliance.com
GEO:39.1169662;-77.1989719
X-APPLE-STRUCTURED-LOCATION;VALUE=URI;X-ADDRESS=Launch Workplaces 9841 Washingtonian Boulevard Suite 200 Gaithersburg MD 20878 United States;X-APPLE-RADIUS=500;X-TITLE=9841 Washingtonian Boulevard\, Suite 200:geo:-77.1989719,39.1169662
END:VEVENT
BEGIN:VEVENT
DTSTART;TZID=America/New_York:20211027T073000
DTEND;TZID=America/New_York:20211027T090000
DTSTAMP:20260419T132859
CREATED:20211006T181934Z
LAST-MODIFIED:20220201T190040Z
UID:10000199-1635319800-1635325200@www.professionalnetworkingalliance.com
SUMMARY:Weekly Meeting
DESCRIPTION:
URL:https://www.professionalnetworkingalliance.com/event/weekly-meeting-2021/2021-10-27/
LOCATION:Zoom
CATEGORIES:Open to Members, Visitors, & Guests,Weekly Meeting
ORGANIZER;CN="Virginia Tehrani":MAILTO:president@professionalnetworkingalliance.com
END:VEVENT
BEGIN:VEVENT
DTSTART;TZID=America/New_York:20211020T073000
DTEND;TZID=America/New_York:20211020T090000
DTSTAMP:20260419T132859
CREATED:20211006T181934Z
LAST-MODIFIED:20220201T190040Z
UID:10000198-1634715000-1634720400@www.professionalnetworkingalliance.com
SUMMARY:Weekly Meeting
DESCRIPTION:
URL:https://www.professionalnetworkingalliance.com/event/weekly-meeting-2021/2021-10-20/
LOCATION:Zoom
CATEGORIES:Open to Members, Visitors, & Guests,Weekly Meeting
ORGANIZER;CN="Virginia Tehrani":MAILTO:president@professionalnetworkingalliance.com
END:VEVENT
BEGIN:VEVENT
DTSTART;TZID=America/New_York:20211013T073000
DTEND;TZID=America/New_York:20211013T090000
DTSTAMP:20260419T132859
CREATED:20211006T181934Z
LAST-MODIFIED:20220201T190040Z
UID:10000197-1634110200-1634115600@www.professionalnetworkingalliance.com
SUMMARY:Weekly Meeting
DESCRIPTION:
URL:https://www.professionalnetworkingalliance.com/event/weekly-meeting-2021/2021-10-13/
LOCATION:Zoom
CATEGORIES:Open to Members, Visitors, & Guests,Weekly Meeting
ORGANIZER;CN="Virginia Tehrani":MAILTO:president@professionalnetworkingalliance.com
END:VEVENT
BEGIN:VEVENT
DTSTART;TZID=America/New_York:20211006T073000
DTEND;TZID=America/New_York:20211006T090000
DTSTAMP:20260419T132859
CREATED:20211006T181934Z
LAST-MODIFIED:20220201T190040Z
UID:10000196-1633505400-1633510800@www.professionalnetworkingalliance.com
SUMMARY:Weekly Meeting
DESCRIPTION:
URL:https://www.professionalnetworkingalliance.com/event/weekly-meeting-2021/2021-10-06/
LOCATION:Zoom
CATEGORIES:Open to Members, Visitors, & Guests,Weekly Meeting
ORGANIZER;CN="Virginia Tehrani":MAILTO:president@professionalnetworkingalliance.com
END:VEVENT
BEGIN:VEVENT
DTSTART;TZID=America/New_York:20201230T073000
DTEND;TZID=America/New_York:20201230T090000
DTSTAMP:20260419T132859
CREATED:20201007T175339Z
LAST-MODIFIED:20220201T195251Z
UID:10000032-1609313400-1609318800@www.professionalnetworkingalliance.com
SUMMARY:Weekly Meeting
DESCRIPTION:All of our meetings have been moved to an online format through the end of 2020.  If you are interested in visiting please email questions@bniwednesday.com for the Zoom link!
URL:https://www.professionalnetworkingalliance.com/event/weekly-meeting-2020/2020-12-30/
LOCATION:Zoom
CATEGORIES:Open to Members, Visitors, & Guests,Weekly Meeting
ORGANIZER;CN="Dan Cumberland":MAILTO:leadership@professionalnetworkingalliance.coim
END:VEVENT
BEGIN:VEVENT
DTSTART;TZID=America/New_York:20201223T073000
DTEND;TZID=America/New_York:20201223T090000
DTSTAMP:20260419T132859
CREATED:20201007T175339Z
LAST-MODIFIED:20220201T195251Z
UID:10000031-1608708600-1608714000@www.professionalnetworkingalliance.com
SUMMARY:Weekly Meeting
DESCRIPTION:All of our meetings have been moved to an online format through the end of 2020.  If you are interested in visiting please email questions@bniwednesday.com for the Zoom link!
URL:https://www.professionalnetworkingalliance.com/event/weekly-meeting-2020/2020-12-23/
LOCATION:Zoom
CATEGORIES:Open to Members, Visitors, & Guests,Weekly Meeting
ORGANIZER;CN="Dan Cumberland":MAILTO:leadership@professionalnetworkingalliance.coim
END:VEVENT
BEGIN:VEVENT
DTSTART;TZID=America/New_York:20201216T073000
DTEND;TZID=America/New_York:20201216T090000
DTSTAMP:20260419T132859
CREATED:20201007T175339Z
LAST-MODIFIED:20220201T195251Z
UID:10000030-1608103800-1608109200@www.professionalnetworkingalliance.com
SUMMARY:Weekly Meeting
DESCRIPTION:All of our meetings have been moved to an online format through the end of 2020.  If you are interested in visiting please email questions@bniwednesday.com for the Zoom link!
URL:https://www.professionalnetworkingalliance.com/event/weekly-meeting-2020/2020-12-16/
LOCATION:Zoom
CATEGORIES:Open to Members, Visitors, & Guests,Weekly Meeting
ORGANIZER;CN="Dan Cumberland":MAILTO:leadership@professionalnetworkingalliance.coim
END:VEVENT
BEGIN:VEVENT
DTSTART;TZID=America/New_York:20201209T073000
DTEND;TZID=America/New_York:20201209T090000
DTSTAMP:20260419T132859
CREATED:20201007T175339Z
LAST-MODIFIED:20220201T195251Z
UID:10000029-1607499000-1607504400@www.professionalnetworkingalliance.com
SUMMARY:Weekly Meeting
DESCRIPTION:All of our meetings have been moved to an online format through the end of 2020.  If you are interested in visiting please email questions@bniwednesday.com for the Zoom link!
URL:https://www.professionalnetworkingalliance.com/event/weekly-meeting-2020/2020-12-09/
LOCATION:Zoom
CATEGORIES:Open to Members, Visitors, & Guests,Weekly Meeting
ORGANIZER;CN="Dan Cumberland":MAILTO:leadership@professionalnetworkingalliance.coim
END:VEVENT
BEGIN:VEVENT
DTSTART;TZID=America/New_York:20201202T073000
DTEND;TZID=America/New_York:20201202T090000
DTSTAMP:20260419T132859
CREATED:20201007T175339Z
LAST-MODIFIED:20220201T195251Z
UID:10000028-1606894200-1606899600@www.professionalnetworkingalliance.com
SUMMARY:Weekly Meeting
DESCRIPTION:All of our meetings have been moved to an online format through the end of 2020.  If you are interested in visiting please email questions@bniwednesday.com for the Zoom link!
URL:https://www.professionalnetworkingalliance.com/event/weekly-meeting-2020/2020-12-02/
LOCATION:Zoom
CATEGORIES:Open to Members, Visitors, & Guests,Weekly Meeting
ORGANIZER;CN="Dan Cumberland":MAILTO:leadership@professionalnetworkingalliance.coim
END:VEVENT
BEGIN:VEVENT
DTSTART;TZID=America/New_York:20201125T073000
DTEND;TZID=America/New_York:20201125T090000
DTSTAMP:20260419T132859
CREATED:20201007T175339Z
LAST-MODIFIED:20220201T195251Z
UID:10000027-1606289400-1606294800@www.professionalnetworkingalliance.com
SUMMARY:Weekly Meeting
DESCRIPTION:All of our meetings have been moved to an online format through the end of 2020.  If you are interested in visiting please email questions@bniwednesday.com for the Zoom link!
URL:https://www.professionalnetworkingalliance.com/event/weekly-meeting-2020/2020-11-25/
LOCATION:Zoom
CATEGORIES:Open to Members, Visitors, & Guests,Weekly Meeting
ORGANIZER;CN="Dan Cumberland":MAILTO:leadership@professionalnetworkingalliance.coim
END:VEVENT
BEGIN:VEVENT
DTSTART;TZID=America/New_York:20201118T073000
DTEND;TZID=America/New_York:20201118T090000
DTSTAMP:20260419T132859
CREATED:20201007T175339Z
LAST-MODIFIED:20220201T195251Z
UID:10000026-1605684600-1605690000@www.professionalnetworkingalliance.com
SUMMARY:Weekly Meeting
DESCRIPTION:All of our meetings have been moved to an online format through the end of 2020.  If you are interested in visiting please email questions@bniwednesday.com for the Zoom link!
URL:https://www.professionalnetworkingalliance.com/event/weekly-meeting-2020/2020-11-18/
LOCATION:Zoom
CATEGORIES:Open to Members, Visitors, & Guests,Weekly Meeting
ORGANIZER;CN="Dan Cumberland":MAILTO:leadership@professionalnetworkingalliance.coim
END:VEVENT
BEGIN:VEVENT
DTSTART;TZID=America/New_York:20201111T073000
DTEND;TZID=America/New_York:20201111T090000
DTSTAMP:20260419T132859
CREATED:20201007T175339Z
LAST-MODIFIED:20220201T195251Z
UID:10000025-1605079800-1605085200@www.professionalnetworkingalliance.com
SUMMARY:Weekly Meeting
DESCRIPTION:All of our meetings have been moved to an online format through the end of 2020.  If you are interested in visiting please email questions@bniwednesday.com for the Zoom link!
URL:https://www.professionalnetworkingalliance.com/event/weekly-meeting-2020/2020-11-11/
LOCATION:Zoom
CATEGORIES:Open to Members, Visitors, & Guests,Weekly Meeting
ORGANIZER;CN="Dan Cumberland":MAILTO:leadership@professionalnetworkingalliance.coim
END:VEVENT
BEGIN:VEVENT
DTSTART;TZID=America/New_York:20201104T073000
DTEND;TZID=America/New_York:20201104T090000
DTSTAMP:20260419T132859
CREATED:20201007T175339Z
LAST-MODIFIED:20220201T195251Z
UID:10000024-1604475000-1604480400@www.professionalnetworkingalliance.com
SUMMARY:Weekly Meeting
DESCRIPTION:All of our meetings have been moved to an online format through the end of 2020.  If you are interested in visiting please email questions@bniwednesday.com for the Zoom link!
URL:https://www.professionalnetworkingalliance.com/event/weekly-meeting-2020/2020-11-04/
LOCATION:Zoom
CATEGORIES:Open to Members, Visitors, & Guests,Weekly Meeting
ORGANIZER;CN="Dan Cumberland":MAILTO:leadership@professionalnetworkingalliance.coim
END:VEVENT
BEGIN:VEVENT
DTSTART;TZID=America/New_York:20201028T073000
DTEND;TZID=America/New_York:20201028T090000
DTSTAMP:20260419T132859
CREATED:20201007T175339Z
LAST-MODIFIED:20220201T195251Z
UID:10000023-1603870200-1603875600@www.professionalnetworkingalliance.com
SUMMARY:Weekly Meeting
DESCRIPTION:All of our meetings have been moved to an online format through the end of 2020.  If you are interested in visiting please email questions@bniwednesday.com for the Zoom link!
URL:https://www.professionalnetworkingalliance.com/event/weekly-meeting-2020/2020-10-28/
LOCATION:Zoom
CATEGORIES:Open to Members, Visitors, & Guests,Weekly Meeting
ORGANIZER;CN="Dan Cumberland":MAILTO:leadership@professionalnetworkingalliance.coim
END:VEVENT
BEGIN:VEVENT
DTSTART;TZID=America/New_York:20201021T073000
DTEND;TZID=America/New_York:20201021T090000
DTSTAMP:20260419T132859
CREATED:20201007T175339Z
LAST-MODIFIED:20220201T195251Z
UID:10000022-1603265400-1603270800@www.professionalnetworkingalliance.com
SUMMARY:Weekly Meeting
DESCRIPTION:All of our meetings have been moved to an online format through the end of 2020.  If you are interested in visiting please email questions@bniwednesday.com for the Zoom link!
URL:https://www.professionalnetworkingalliance.com/event/weekly-meeting-2020/2020-10-21/
LOCATION:Zoom
CATEGORIES:Open to Members, Visitors, & Guests,Weekly Meeting
ORGANIZER;CN="Dan Cumberland":MAILTO:leadership@professionalnetworkingalliance.coim
END:VEVENT
BEGIN:VEVENT
DTSTART;TZID=America/New_York:20201014T073000
DTEND;TZID=America/New_York:20201014T090000
DTSTAMP:20260419T132859
CREATED:20201007T175339Z
LAST-MODIFIED:20220201T195251Z
UID:10000021-1602660600-1602666000@www.professionalnetworkingalliance.com
SUMMARY:Weekly Meeting
DESCRIPTION:All of our meetings have been moved to an online format through the end of 2020.  If you are interested in visiting please email questions@bniwednesday.com for the Zoom link!
URL:https://www.professionalnetworkingalliance.com/event/weekly-meeting-2020/2020-10-14/
LOCATION:Zoom
CATEGORIES:Open to Members, Visitors, & Guests,Weekly Meeting
ORGANIZER;CN="Dan Cumberland":MAILTO:leadership@professionalnetworkingalliance.coim
END:VEVENT
BEGIN:VEVENT
DTSTART;TZID=America/New_York:20201007T073000
DTEND;TZID=America/New_York:20201007T090000
DTSTAMP:20260419T132859
CREATED:20201007T175339Z
LAST-MODIFIED:20220201T195251Z
UID:10000020-1602055800-1602061200@www.professionalnetworkingalliance.com
SUMMARY:Weekly Meeting
DESCRIPTION:All of our meetings have been moved to an online format through the end of 2020.  If you are interested in visiting please email questions@bniwednesday.com for the Zoom link!
URL:https://www.professionalnetworkingalliance.com/event/weekly-meeting-2020/2020-10-07/
LOCATION:Zoom
CATEGORIES:Open to Members, Visitors, & Guests,Weekly Meeting
ORGANIZER;CN="Dan Cumberland":MAILTO:leadership@professionalnetworkingalliance.coim
END:VEVENT
BEGIN:VEVENT
DTSTART;TZID=America/New_York:20200506T071500
DTEND;TZID=America/New_York:20200506T090000
DTSTAMP:20260419T132859
CREATED:20190523T160827Z
LAST-MODIFIED:20200309T162235Z
UID:10000014-1588749300-1588755600@www.professionalnetworkingalliance.com
SUMMARY:Weekly meeting of the Business Referral Alliance
DESCRIPTION:Join us for a weekly meeting of the Business Referral Alliance!  Each week we will have a feature one of our members as a speaker and give each member and guest a moment to introduce themselves and their business.  Our goal is to learn more about what makes your business unique and how you add value to your clients/customers so that we can introduce you to the correct people who need your solutions! \nPlease bring 30+ business cards to distribute.  The cost for breakfast is $11. \nWe’re looking forward to meeting you!
URL:https://www.professionalnetworkingalliance.com/event/weekly-meeting-of-the-business-referral-alliance-50/
LOCATION:Holiday Inn\, Gaithersburg\, 2 Montgomery Village Avenue\, Gaithersburg\, MD\, 20879\, US
CATEGORIES:Open to Members, Visitors, & Guests,Weekly Meeting
GEO:39.1540261;-77.2118982
X-APPLE-STRUCTURED-LOCATION;VALUE=URI;X-ADDRESS=Holiday Inn Gaithersburg 2 Montgomery Village Avenue Gaithersburg MD 20879 US;X-APPLE-RADIUS=500;X-TITLE=2 Montgomery Village Avenue:geo:-77.2118982,39.1540261
END:VEVENT
BEGIN:VEVENT
DTSTART;TZID=America/New_York:20200429T071500
DTEND;TZID=America/New_York:20200429T090000
DTSTAMP:20260419T132859
CREATED:20190523T160827Z
LAST-MODIFIED:20200309T162235Z
UID:10000013-1588144500-1588150800@www.professionalnetworkingalliance.com
SUMMARY:Weekly meeting of the Business Referral Alliance
DESCRIPTION:Join us for a weekly meeting of the Business Referral Alliance!  Each week we will have a feature one of our members as a speaker and give each member and guest a moment to introduce themselves and their business.  Our goal is to learn more about what makes your business unique and how you add value to your clients/customers so that we can introduce you to the correct people who need your solutions! \nPlease bring 30+ business cards to distribute.  The cost for breakfast is $11. \nWe’re looking forward to meeting you!
URL:https://www.professionalnetworkingalliance.com/event/weekly-meeting-of-the-business-referral-alliance-49/
LOCATION:Holiday Inn\, Gaithersburg\, 2 Montgomery Village Avenue\, Gaithersburg\, MD\, 20879\, US
CATEGORIES:Open to Members, Visitors, & Guests,Weekly Meeting
GEO:39.1540261;-77.2118982
X-APPLE-STRUCTURED-LOCATION;VALUE=URI;X-ADDRESS=Holiday Inn Gaithersburg 2 Montgomery Village Avenue Gaithersburg MD 20879 US;X-APPLE-RADIUS=500;X-TITLE=2 Montgomery Village Avenue:geo:-77.2118982,39.1540261
END:VEVENT
BEGIN:VEVENT
DTSTART;TZID=America/New_York:20200422T071500
DTEND;TZID=America/New_York:20200422T090000
DTSTAMP:20260419T132859
CREATED:20190523T160827Z
LAST-MODIFIED:20200309T162235Z
UID:10000012-1587539700-1587546000@www.professionalnetworkingalliance.com
SUMMARY:Weekly meeting of the Business Referral Alliance
DESCRIPTION:Join us for a weekly meeting of the Business Referral Alliance!  Each week we will have a feature one of our members as a speaker and give each member and guest a moment to introduce themselves and their business.  Our goal is to learn more about what makes your business unique and how you add value to your clients/customers so that we can introduce you to the correct people who need your solutions! \nPlease bring 30+ business cards to distribute.  The cost for breakfast is $11. \nWe’re looking forward to meeting you!
URL:https://www.professionalnetworkingalliance.com/event/weekly-meeting-of-the-business-referral-alliance-48/
LOCATION:Holiday Inn\, Gaithersburg\, 2 Montgomery Village Avenue\, Gaithersburg\, MD\, 20879\, US
CATEGORIES:Open to Members, Visitors, & Guests,Weekly Meeting
GEO:39.1540261;-77.2118982
X-APPLE-STRUCTURED-LOCATION;VALUE=URI;X-ADDRESS=Holiday Inn Gaithersburg 2 Montgomery Village Avenue Gaithersburg MD 20879 US;X-APPLE-RADIUS=500;X-TITLE=2 Montgomery Village Avenue:geo:-77.2118982,39.1540261
END:VEVENT
END:VCALENDAR