BEGIN:VCALENDAR
VERSION:2.0
PRODID:-//Professional Networking Alliance - ECPv6.15.20//NONSGML v1.0//EN
CALSCALE:GREGORIAN
METHOD:PUBLISH
X-ORIGINAL-URL:https://www.professionalnetworkingalliance.com
X-WR-CALDESC:Events for Professional Networking Alliance
REFRESH-INTERVAL;VALUE=DURATION:PT1H
X-Robots-Tag:noindex
X-PUBLISHED-TTL:PT1H
BEGIN:VTIMEZONE
TZID:America/New_York
BEGIN:DAYLIGHT
TZOFFSETFROM:-0500
TZOFFSETTO:-0400
TZNAME:EDT
DTSTART:20170312T070000
END:DAYLIGHT
BEGIN:STANDARD
TZOFFSETFROM:-0400
TZOFFSETTO:-0500
TZNAME:EST
DTSTART:20171105T060000
END:STANDARD
BEGIN:DAYLIGHT
TZOFFSETFROM:-0500
TZOFFSETTO:-0400
TZNAME:EDT
DTSTART:20180311T070000
END:DAYLIGHT
BEGIN:STANDARD
TZOFFSETFROM:-0400
TZOFFSETTO:-0500
TZNAME:EST
DTSTART:20181104T060000
END:STANDARD
BEGIN:DAYLIGHT
TZOFFSETFROM:-0500
TZOFFSETTO:-0400
TZNAME:EDT
DTSTART:20190310T070000
END:DAYLIGHT
BEGIN:STANDARD
TZOFFSETFROM:-0400
TZOFFSETTO:-0500
TZNAME:EST
DTSTART:20191103T060000
END:STANDARD
END:VTIMEZONE
BEGIN:VEVENT
DTSTART;TZID=America/New_York:20181113T170000
DTEND;TZID=America/New_York:20181113T190000
DTSTAMP:20260424T153424
CREATED:20181029T210701Z
LAST-MODIFIED:20181029T210701Z
UID:10000089-1542128400-1542135600@www.professionalnetworkingalliance.com
SUMMARY:Candy-Making Party
DESCRIPTION:Announcing a candy-making party!  Spouses\, children\, partners are all welcome\, but please let Diana know\, at least one day ahead\, how many children are coming and what their ages are to make sure there are age-appropriate candy activities.  There will be  – well\, I’m not sure yet\, but certainly nibbles\, beer\, and apple cider\, maybe pizza! \nIf there are any bartenders out there\, we could make simple syrups for martinis and other drinks.  Let me know if anyone is interested in that. \nWe did this a couple of years ago and it was fun\, so I hope you all come and make candy\, or just cheer the rest of us on! \nDiana
URL:https://www.professionalnetworkingalliance.com/event/candy-making-party/
CATEGORIES:Members Only
END:VEVENT
END:VCALENDAR