BEGIN:VCALENDAR
VERSION:2.0
PRODID:-//Professional Networking Alliance - ECPv6.15.20//NONSGML v1.0//EN
CALSCALE:GREGORIAN
METHOD:PUBLISH
X-WR-CALNAME:Professional Networking Alliance
X-ORIGINAL-URL:https://www.professionalnetworkingalliance.com
X-WR-CALDESC:Events for Professional Networking Alliance
REFRESH-INTERVAL;VALUE=DURATION:PT1H
X-Robots-Tag:noindex
X-PUBLISHED-TTL:PT1H
BEGIN:VTIMEZONE
TZID:America/New_York
BEGIN:DAYLIGHT
TZOFFSETFROM:-0500
TZOFFSETTO:-0400
TZNAME:EDT
DTSTART:20210314T070000
END:DAYLIGHT
BEGIN:STANDARD
TZOFFSETFROM:-0400
TZOFFSETTO:-0500
TZNAME:EST
DTSTART:20211107T060000
END:STANDARD
BEGIN:DAYLIGHT
TZOFFSETFROM:-0500
TZOFFSETTO:-0400
TZNAME:EDT
DTSTART:20220313T070000
END:DAYLIGHT
BEGIN:STANDARD
TZOFFSETFROM:-0400
TZOFFSETTO:-0500
TZNAME:EST
DTSTART:20221106T060000
END:STANDARD
BEGIN:DAYLIGHT
TZOFFSETFROM:-0500
TZOFFSETTO:-0400
TZNAME:EDT
DTSTART:20230312T070000
END:DAYLIGHT
BEGIN:STANDARD
TZOFFSETFROM:-0400
TZOFFSETTO:-0500
TZNAME:EST
DTSTART:20231105T060000
END:STANDARD
END:VTIMEZONE
BEGIN:VEVENT
DTSTART;TZID=America/New_York:20220323T090000
DTEND;TZID=America/New_York:20220323T130000
DTSTAMP:20260420T214055
CREATED:20220302T142317Z
LAST-MODIFIED:20220302T170631Z
UID:10000251-1648026000-1648040400@www.professionalnetworkingalliance.com
SUMMARY:Headshot Session with Armato Headshots
DESCRIPTION:The Professional Networking Alliance is sponsoring a professional headshot session with our newest member\, John Armato\, of Armato Headshots! \nNo matter how un-photogenic you feel\, John can take a magazine cover ready headshot. His personalized coaching style helps you feel relaxed\, and he’ll coach a few key skills to make sure you look amazing! You’ll leave this session with a killer headshot and new-found sense of confidence! \nYOU DESERVE TO HAVE A HEADSHOT YOU CAN’T WAIT TO USE! \nYou can see samples of John’s amazing work on his website at https://www.armatoheadshots.com/rockville-headshot-gallery \nThe session is being sponsored by PNA\, so the cost for your professional headshot and one image is just $155.  To register for a timeslot for your professional headshot please go to https://app.acuityscheduling.com/schedule.php?owner=17573412&appointmentType=30677616. \nThe professional networking alliance is having their weekly meeting at 7:30 and we’d love to have you as a guest for the meeting and then you can stay for networking and your headshot!  To register for that event please go to https://www.professionalnetworkingalliance.com/event/weekly-meeting-2022-03-23/
URL:https://www.professionalnetworkingalliance.com/event/headshot-session-with-armato-headshots-2022-03-23/
LOCATION:Launch Workplaces\, 9841 Washingtonian Boulevard\, Suite 200\, Gaithersburg\, MD\, 20878\, United States
CATEGORIES:Open to Members, Visitors, & Guests,Special Event
ATTACH;FMTTYPE=image/jpeg:https://www.professionalnetworkingalliance.com/wp-content/uploads/2022/02/Armato-16x9-1.jpg
ORGANIZER;CN="John Armato":MAILTO:jfarmato@gmail.com
GEO:39.1169662;-77.1989719
X-APPLE-STRUCTURED-LOCATION;VALUE=URI;X-ADDRESS=Launch Workplaces 9841 Washingtonian Boulevard Suite 200 Gaithersburg MD 20878 United States;X-APPLE-RADIUS=500;X-TITLE=9841 Washingtonian Boulevard\, Suite 200:geo:-77.1989719,39.1169662
END:VEVENT
BEGIN:VEVENT
DTSTART;TZID=America/New_York:20220223T090000
DTEND;TZID=America/New_York:20220223T130000
DTSTAMP:20260420T214055
CREATED:20220202T181132Z
LAST-MODIFIED:20220215T150844Z
UID:10000219-1645606800-1645621200@www.professionalnetworkingalliance.com
SUMMARY:Headshot Session with Armato Headshots
DESCRIPTION:The Professional Networking Alliance is sponsoring a professional headshot session with our newest member\, John Armato\, of Armato Headshots! \nNo matter how un-photogenic you feel\, John can take a magazine cover ready headshot. His personalized coaching style helps you feel relaxed\, and he’ll coach a few key skills to make sure you look amazing! You’ll leave this session with a killer headshot and new-found sense of confidence! \nYOU DESERVE TO HAVE A HEADSHOT YOU CAN’T WAIT TO USE! \nYou can see samples of John’s amazing work on his website at https://www.armatoheadshots.com/rockville-headshot-gallery \nThe session is being sponsored by PNA\, so the cost for your professional headshot and one image is just $155.  To register for a timeslot for your professional headshot please go to https://app.acuityscheduling.com/schedule.php?owner=17573412&appointmentType=30677616. \nThe professional networking alliance is having their weekly meeting at 7:30 and we’d love to have you as a guest for the meeting and then you can stay for networking and your headshot!  To register for that event please go to https://www.professionalnetworkingalliance.com/event/weekly-meeting-2022-02-23/
URL:https://www.professionalnetworkingalliance.com/event/headshot-session-with-armato-headshots/
LOCATION:Launch Workplaces\, 9841 Washingtonian Boulevard\, Suite 200\, Gaithersburg\, MD\, 20878\, United States
CATEGORIES:Open to Members, Visitors, & Guests,Special Event
ATTACH;FMTTYPE=image/jpeg:https://www.professionalnetworkingalliance.com/wp-content/uploads/2022/02/Armato-16x9-1.jpg
ORGANIZER;CN="John Armato":MAILTO:jfarmato@gmail.com
GEO:39.1169662;-77.1989719
X-APPLE-STRUCTURED-LOCATION;VALUE=URI;X-ADDRESS=Launch Workplaces 9841 Washingtonian Boulevard Suite 200 Gaithersburg MD 20878 United States;X-APPLE-RADIUS=500;X-TITLE=9841 Washingtonian Boulevard\, Suite 200:geo:-77.1989719,39.1169662
END:VEVENT
END:VCALENDAR