BEGIN:VCALENDAR
VERSION:2.0
PRODID:-//Professional Networking Alliance - ECPv6.15.20//NONSGML v1.0//EN
CALSCALE:GREGORIAN
METHOD:PUBLISH
X-WR-CALNAME:Professional Networking Alliance
X-ORIGINAL-URL:https://www.professionalnetworkingalliance.com
X-WR-CALDESC:Events for Professional Networking Alliance
REFRESH-INTERVAL;VALUE=DURATION:PT1H
X-Robots-Tag:noindex
X-PUBLISHED-TTL:PT1H
BEGIN:VTIMEZONE
TZID:America/New_York
BEGIN:DAYLIGHT
TZOFFSETFROM:-0500
TZOFFSETTO:-0400
TZNAME:EDT
DTSTART:20160313T070000
END:DAYLIGHT
BEGIN:STANDARD
TZOFFSETFROM:-0400
TZOFFSETTO:-0500
TZNAME:EST
DTSTART:20161106T060000
END:STANDARD
BEGIN:DAYLIGHT
TZOFFSETFROM:-0500
TZOFFSETTO:-0400
TZNAME:EDT
DTSTART:20170312T070000
END:DAYLIGHT
BEGIN:STANDARD
TZOFFSETFROM:-0400
TZOFFSETTO:-0500
TZNAME:EST
DTSTART:20171105T060000
END:STANDARD
BEGIN:DAYLIGHT
TZOFFSETFROM:-0500
TZOFFSETTO:-0400
TZNAME:EDT
DTSTART:20180311T070000
END:DAYLIGHT
BEGIN:STANDARD
TZOFFSETFROM:-0400
TZOFFSETTO:-0500
TZNAME:EST
DTSTART:20181104T060000
END:STANDARD
BEGIN:DAYLIGHT
TZOFFSETFROM:-0500
TZOFFSETTO:-0400
TZNAME:EDT
DTSTART:20190310T070000
END:DAYLIGHT
BEGIN:STANDARD
TZOFFSETFROM:-0400
TZOFFSETTO:-0500
TZNAME:EST
DTSTART:20191103T060000
END:STANDARD
BEGIN:DAYLIGHT
TZOFFSETFROM:-0500
TZOFFSETTO:-0400
TZNAME:EDT
DTSTART:20200308T070000
END:DAYLIGHT
BEGIN:STANDARD
TZOFFSETFROM:-0400
TZOFFSETTO:-0500
TZNAME:EST
DTSTART:20201101T060000
END:STANDARD
END:VTIMEZONE
BEGIN:VEVENT
DTSTART;TZID=America/New_York:20190320T170000
DTEND;TZID=America/New_York:20190320T190000
DTSTAMP:20260424T114817
CREATED:20190314T193513Z
LAST-MODIFIED:20190314T193513Z
UID:10000182-1553101200-1553108400@www.professionalnetworkingalliance.com
SUMMARY:March 2019 Happy Hour
DESCRIPTION:Come join Maryland’s top networking group for an evening of good food\, drinks\, conversation\, and networking opportunities!!
URL:https://www.professionalnetworkingalliance.com/event/march-2019-happy-hour/
LOCATION:Boca Botanas Tapas Bar\, 239 Muddy Branch Rd\, Gaithersburg\, MD\, 20878\, United States
CATEGORIES:Happy Hour,Networking Event,Open to Members, Visitors, & Guests
ATTACH;FMTTYPE=image/jpeg:https://www.professionalnetworkingalliance.com/wp-content/uploads/2019/03/BocaBotanas15.jpg
ORGANIZER;CN="Matt Deeds":MAILTO:events@bniwednesday.com
GEO:39.1283098;-77.2086015
X-APPLE-STRUCTURED-LOCATION;VALUE=URI;X-ADDRESS=Boca Botanas Tapas Bar 239 Muddy Branch Rd Gaithersburg MD 20878 United States;X-APPLE-RADIUS=500;X-TITLE=239 Muddy Branch Rd:geo:-77.2086015,39.1283098
END:VEVENT
BEGIN:VEVENT
DTSTART;TZID=America/New_York:20190116T170000
DTEND;TZID=America/New_York:20190116T190000
DTSTAMP:20260424T114817
CREATED:20190116T162951Z
LAST-MODIFIED:20190116T162951Z
UID:10000035-1547658000-1547665200@www.professionalnetworkingalliance.com
SUMMARY:January\, 2019 Happy Hour
DESCRIPTION:
URL:https://www.professionalnetworkingalliance.com/event/january-2019-happy-hour/
LOCATION:Paladar Latin Kitchen & Rum Bar\, 203 Crowne Park Avenue\, Gaithersburg\, 20878
CATEGORIES:Happy Hour,Open to Members, Visitors, & Guests
ORGANIZER;CN="Matt Deeds":MAILTO:events@bniwednesday.com
GEO:39.1146123;-77.205951
X-APPLE-STRUCTURED-LOCATION;VALUE=URI;X-ADDRESS=Paladar Latin Kitchen & Rum Bar 203 Crowne Park Avenue Gaithersburg 20878;X-APPLE-RADIUS=500;X-TITLE=203 Crowne Park Avenue:geo:-77.205951,39.1146123
END:VEVENT
BEGIN:VEVENT
DTSTART;TZID=America/New_York:20181114T170000
DTEND;TZID=America/New_York:20181114T190000
DTSTAMP:20260424T114817
CREATED:20181112T182848Z
LAST-MODIFIED:20181112T183044Z
UID:10000163-1542214800-1542222000@www.professionalnetworkingalliance.com
SUMMARY:November Happy Hour
DESCRIPTION:
URL:https://www.professionalnetworkingalliance.com/event/november-happy-hour/
LOCATION:Firebirds Wood Fired Grill\, 390 Spectrum Ave\, Gaithersburg\, MD\, 20879\, United States
CATEGORIES:Happy Hour,Open to Members, Visitors, & Guests,Social Event
ATTACH;FMTTYPE=image/jpeg:https://www.professionalnetworkingalliance.com/wp-content/uploads/2018/11/Firebirds.jpg
ORGANIZER;CN="Matt Deeds":MAILTO:events@bniwednesday.com
GEO:39.1594295;-77.219979
X-APPLE-STRUCTURED-LOCATION;VALUE=URI;X-ADDRESS=Firebirds Wood Fired Grill 390 Spectrum Ave Gaithersburg MD 20879 United States;X-APPLE-RADIUS=500;X-TITLE=390 Spectrum Ave:geo:-77.219979,39.1594295
END:VEVENT
BEGIN:VEVENT
DTSTART;TZID=America/New_York:20181016T170000
DTEND;TZID=America/New_York:20181016T190000
DTSTAMP:20260424T114817
CREATED:20181011T193547Z
LAST-MODIFIED:20181011T193547Z
UID:10000090-1539709200-1539716400@www.professionalnetworkingalliance.com
SUMMARY:October Happy Hour
DESCRIPTION:
URL:https://www.professionalnetworkingalliance.com/event/october-happy-hour/
LOCATION:The Old Towne Pour House\, 212 Ellington Blvd\, Gaithersburg\, 20878
CATEGORIES:Happy Hour,Networking Event,Open to Members, Visitors, & Guests,Social Event
ORGANIZER;CN="Matt Deeds":MAILTO:events@bniwednesday.com
GEO:39.1148952;-77.2049889
X-APPLE-STRUCTURED-LOCATION;VALUE=URI;X-ADDRESS=The Old Towne Pour House 212 Ellington Blvd Gaithersburg 20878;X-APPLE-RADIUS=500;X-TITLE=212 Ellington Blvd:geo:-77.2049889,39.1148952
END:VEVENT
BEGIN:VEVENT
DTSTART;TZID=America/New_York:20170809T170000
DTEND;TZID=America/New_York:20170809T190000
DTSTAMP:20260424T114817
CREATED:20170731T170256Z
LAST-MODIFIED:20170731T170256Z
UID:10000099-1502298000-1502305200@www.professionalnetworkingalliance.com
SUMMARY:August Networking Happy Hour
DESCRIPTION:
URL:https://www.professionalnetworkingalliance.com/event/august-networking-happy-hour/
LOCATION:Boca Botanas Tapas Bar\, 239 Muddy Branch Rd\, Gaithersburg\, MD\, 20878\, United States
CATEGORIES:Happy Hour,Networking Event,Open to Members, Visitors, & Guests
ORGANIZER;CN="Matt Deeds":MAILTO:events@bniwednesday.com
GEO:39.1283098;-77.2086015
X-APPLE-STRUCTURED-LOCATION;VALUE=URI;X-ADDRESS=Boca Botanas Tapas Bar 239 Muddy Branch Rd Gaithersburg MD 20878 United States;X-APPLE-RADIUS=500;X-TITLE=239 Muddy Branch Rd:geo:-77.2086015,39.1283098
END:VEVENT
BEGIN:VEVENT
DTSTART;TZID=America/New_York:20170608T170000
DTEND;TZID=America/New_York:20170608T190000
DTSTAMP:20260424T114817
CREATED:20170531T165200Z
LAST-MODIFIED:20170531T165851Z
UID:10000101-1496941200-1496948400@www.professionalnetworkingalliance.com
SUMMARY:June 2017 Happy Hour
DESCRIPTION:Come join us for a few hours of networking\, snacks\, and fun.  The event details are below and all are welcome to join! \nPlease register on our Eventbrite page so that we know how many people to expect!  https://www.eventbrite.com/e/bni-referral-alliance-june-happy-hour-tickets-35011804249 \n 
URL:https://www.professionalnetworkingalliance.com/event/june-2017-happy-hour/
LOCATION:Not Your Average Joes\, 245 Kentlands Boulevard \, Gaithersburg\, MD\, 20878\, United States
CATEGORIES:Happy Hour,Open to Members, Visitors, & Guests
ATTACH;FMTTYPE=image/jpeg:https://www.professionalnetworkingalliance.com/wp-content/uploads/2017/05/5_Dining_PatioWall_DSF2932.jpg
ORGANIZER;CN="Matt Deeds":MAILTO:events@bniwednesday.com
GEO:39.1247294;-77.2416942
X-APPLE-STRUCTURED-LOCATION;VALUE=URI;X-ADDRESS=Not Your Average Joes 245 Kentlands Boulevard  Gaithersburg MD 20878 United States;X-APPLE-RADIUS=500;X-TITLE=245 Kentlands Boulevard:geo:-77.2416942,39.1247294
END:VEVENT
BEGIN:VEVENT
DTSTART;TZID=America/New_York:20170302T170000
DTEND;TZID=America/New_York:20170302T190000
DTSTAMP:20260424T114817
CREATED:20170223T033146Z
LAST-MODIFIED:20170223T033146Z
UID:10000176-1488474000-1488481200@www.professionalnetworkingalliance.com
SUMMARY:Networking Happy Hour
DESCRIPTION:
URL:https://www.professionalnetworkingalliance.com/event/networking-happy-hour/
LOCATION:Dogfish Head Alehouse\, 800 West Diamond Avenue \, Gaithersburg\, Maryland\, 20878
CATEGORIES:Happy Hour
ORGANIZER;CN="Matt Deeds":MAILTO:events@bniwednesday.com
GEO:39.1419119;-77.2169417
X-APPLE-STRUCTURED-LOCATION;VALUE=URI;X-ADDRESS=Dogfish Head Alehouse 800 West Diamond Avenue  Gaithersburg Maryland 20878;X-APPLE-RADIUS=500;X-TITLE=800 West Diamond Avenue:geo:-77.2169417,39.1419119
END:VEVENT
END:VCALENDAR