BEGIN:VCALENDAR
VERSION:2.0
PRODID:-//Professional Networking Alliance - ECPv6.15.20//NONSGML v1.0//EN
CALSCALE:GREGORIAN
METHOD:PUBLISH
X-ORIGINAL-URL:https://www.professionalnetworkingalliance.com
X-WR-CALDESC:Events for Professional Networking Alliance
REFRESH-INTERVAL;VALUE=DURATION:PT1H
X-Robots-Tag:noindex
X-PUBLISHED-TTL:PT1H
BEGIN:VTIMEZONE
TZID:America/New_York
BEGIN:DAYLIGHT
TZOFFSETFROM:-0500
TZOFFSETTO:-0400
TZNAME:EDT
DTSTART:20200308T070000
END:DAYLIGHT
BEGIN:STANDARD
TZOFFSETFROM:-0400
TZOFFSETTO:-0500
TZNAME:EST
DTSTART:20201101T060000
END:STANDARD
BEGIN:DAYLIGHT
TZOFFSETFROM:-0500
TZOFFSETTO:-0400
TZNAME:EDT
DTSTART:20210314T070000
END:DAYLIGHT
BEGIN:STANDARD
TZOFFSETFROM:-0400
TZOFFSETTO:-0500
TZNAME:EST
DTSTART:20211107T060000
END:STANDARD
BEGIN:DAYLIGHT
TZOFFSETFROM:-0500
TZOFFSETTO:-0400
TZNAME:EDT
DTSTART:20220313T070000
END:DAYLIGHT
BEGIN:STANDARD
TZOFFSETFROM:-0400
TZOFFSETTO:-0500
TZNAME:EST
DTSTART:20221106T060000
END:STANDARD
BEGIN:DAYLIGHT
TZOFFSETFROM:-0500
TZOFFSETTO:-0400
TZNAME:EDT
DTSTART:20230312T070000
END:DAYLIGHT
BEGIN:STANDARD
TZOFFSETFROM:-0400
TZOFFSETTO:-0500
TZNAME:EST
DTSTART:20231105T060000
END:STANDARD
END:VTIMEZONE
BEGIN:VEVENT
DTSTART;TZID=America/New_York:20220505T170000
DTEND;TZID=America/New_York:20220505T190000
DTSTAMP:20260420T145626
CREATED:20220504T203903Z
LAST-MODIFIED:20220504T205329Z
UID:10000105-1651770000-1651777200@www.professionalnetworkingalliance.com
SUMMARY:Cinco de Mayo Happy Hour
DESCRIPTION:Come join the Professional Networking Alliance for a Cinco de Mayo networking happy hour!  Come for a drink or two and network with the best business professionals in the region!
URL:https://www.professionalnetworkingalliance.com/event/2022-cinco-de-mayo-happy-hour/
LOCATION:Uncle Julios Gaithersburg\, 231 Rio Boulevard\, Gaithersburg\, 20878\, United States
CATEGORIES:Happy Hour
ATTACH;FMTTYPE=image/png:https://www.professionalnetworkingalliance.com/wp-content/uploads/2022/05/shutterstock_1952144200.png
ORGANIZER;CN="Rose Buckley":MAILTO:RBuckley@usinspect.com
END:VEVENT
BEGIN:VEVENT
DTSTART;TZID=America/New_York:20220405T180000
DTEND;TZID=America/New_York:20220405T200000
DTSTAMP:20260420T145626
CREATED:20220415T125349Z
LAST-MODIFIED:20220415T125349Z
UID:10000098-1649181600-1649188800@www.professionalnetworkingalliance.com
SUMMARY:Top Golf
DESCRIPTION:
URL:https://www.professionalnetworkingalliance.com/event/top-golf/
LOCATION:Top Golf\, 20101 Century Blvd\, Germantown\, MD\, 20874\, United States
CATEGORIES:Happy Hour,Open to Members, Visitors, & Guests,Social Event
ORGANIZER;CN="Rose Buckley":MAILTO:RBuckley@usinspect.com
END:VEVENT
BEGIN:VEVENT
DTSTART;TZID=America/New_York:20211214T180000
DTEND;TZID=America/New_York:20211214T210000
DTSTAMP:20260420T145626
CREATED:20211122T174800Z
LAST-MODIFIED:20211210T210326Z
UID:10000225-1639504800-1639515600@www.professionalnetworkingalliance.com
SUMMARY:2021 Holiday Party
DESCRIPTION:All members and their guests are invited to the annual PNA holiday party! \nFood Menu: Mission BBQ is catering: Pulled Chicken\, Pulled Pork\, Sliced Brisket – a variety of sauces; Mac & Cheese\, Baked Beans\, Green Beans; Rolls and Cornbread. Diana/Lorraine/Virginia are covering desserts (yesssssssss!) \nBeverages: Water/Soda/Tea will be provided\, please bring any adult beverages you’d like\, and some to share if you wish! We will also have ice for the drinks. \nParking: There is free parking in the garage near the Hot Pot/Starbucks/Firebirds\, it is a short walk to the other building for the party. Street parking could get towed…they’re a bit strict here. The entrance to the building for the party is near Barking Mad\, you’ll see blue Amazon lockers in between the entry doors. \nThis will be a relaxed\, private happy hour/cocktail type of evening with food and drinks. There is a pool table and a card room\, and an open seating area for conversation. There is also a bit of space outdoors (terrace/pool deck) for our use if you’d likesome fresh air. \nI think I covered all of the details\, if you have questions\, please let me know! The building is locked\, so when you arrive\, you can call/text Rose to let you in!
URL:https://www.professionalnetworkingalliance.com/event/2021-holiday-party/
LOCATION:231 Spectrum Avenue\, Gaithersburg MD\, 231 Spectrum Avenue\, Gaithersburg MD\, Gaithersburg\, 20879\, United States
CATEGORIES:Members Only,Special Event
ORGANIZER;CN="Rose Buckley":MAILTO:RBuckley@usinspect.com
END:VEVENT
BEGIN:VEVENT
DTSTART;TZID=America/New_York:20211022T190000
DTEND;TZID=America/New_York:20211022T210000
DTSTAMP:20260420T145626
CREATED:20211011T154926Z
LAST-MODIFIED:20211011T165707Z
UID:10000226-1634929200-1634936400@www.professionalnetworkingalliance.com
SUMMARY:Halloween Haunts at Markoff's Haunted Trail
DESCRIPTION:I’m excited to announce our October PNA Event – Halloween Haunts at Markoff’s Haunted Trail!  Next Friday\, October 22\, interested members can meet at Markoff’s at 7pm to hang out and grab a drink before an 8pm tour through the forest!  \nWe’re lucky as former PresiDANte Dan Cumberland has offered our group a coupon code (see email for code) to make it more affordable for us\, THANK YOU DAN!  \nDetails:\nFriday 10/22/21  Meet in the open/concession area at 7pm \n19120 Martinsburg Rd\nDickerson\, MD 20842 \nPurchase Tickets: Online or in Person* for the 8pm tour\nCoupon Code: thankyou20\n*Tickets are cheaper if purchased online\, AND this is their busiest weekend so GET YOUR TICKETS ASAP!  Purchasing tickets on a computer/laptop doesn’t populate the field for the coupon code\, so purchasing through a mobile phone browser will allow you to usethe coupon code. \nMore Information:\nhttps://www.markoffshauntedforest.com/ \nWear comfortable shoes/sneakers.  It is scary but totally safe 🙂\nLooking forward to seeing you there!
URL:https://www.professionalnetworkingalliance.com/event/halloween-haunts-at-markoffs-haunted-trail/
LOCATION:Markoff’s Haunted Forest\, 19120 Martinsburg Rd\, Dickerson\, MD\, 20842\, United States
CATEGORIES:Social Event
ORGANIZER;CN="Rose Buckley":MAILTO:RBuckley@usinspect.com
GEO:39.177373;-77.4769865
X-APPLE-STRUCTURED-LOCATION;VALUE=URI;X-ADDRESS=Markoff’s Haunted Forest 19120 Martinsburg Rd Dickerson MD 20842 United States;X-APPLE-RADIUS=500;X-TITLE=19120 Martinsburg Rd:geo:-77.4769865,39.177373
END:VEVENT
END:VCALENDAR