BEGIN:VCALENDAR
VERSION:2.0
PRODID:-//Professional Networking Alliance - ECPv6.15.20//NONSGML v1.0//EN
CALSCALE:GREGORIAN
METHOD:PUBLISH
X-WR-CALNAME:Professional Networking Alliance
X-ORIGINAL-URL:https://www.professionalnetworkingalliance.com
X-WR-CALDESC:Events for Professional Networking Alliance
REFRESH-INTERVAL;VALUE=DURATION:PT1H
X-Robots-Tag:noindex
X-PUBLISHED-TTL:PT1H
BEGIN:VTIMEZONE
TZID:America/New_York
BEGIN:DAYLIGHT
TZOFFSETFROM:-0500
TZOFFSETTO:-0400
TZNAME:EDT
DTSTART:20180311T070000
END:DAYLIGHT
BEGIN:STANDARD
TZOFFSETFROM:-0400
TZOFFSETTO:-0500
TZNAME:EST
DTSTART:20181104T060000
END:STANDARD
BEGIN:DAYLIGHT
TZOFFSETFROM:-0500
TZOFFSETTO:-0400
TZNAME:EDT
DTSTART:20190310T070000
END:DAYLIGHT
BEGIN:STANDARD
TZOFFSETFROM:-0400
TZOFFSETTO:-0500
TZNAME:EST
DTSTART:20191103T060000
END:STANDARD
BEGIN:DAYLIGHT
TZOFFSETFROM:-0500
TZOFFSETTO:-0400
TZNAME:EDT
DTSTART:20200308T070000
END:DAYLIGHT
BEGIN:STANDARD
TZOFFSETFROM:-0400
TZOFFSETTO:-0500
TZNAME:EST
DTSTART:20201101T060000
END:STANDARD
END:VTIMEZONE
BEGIN:VEVENT
DTSTART;TZID=America/New_York:20190731T071500
DTEND;TZID=America/New_York:20190731T090000
DTSTAMP:20260423T183425
CREATED:20190523T160821Z
LAST-MODIFIED:20190523T160821Z
UID:10000186-1564557300-1564563600@www.professionalnetworkingalliance.com
SUMMARY:Weekly meeting of the Business Referral Alliance
DESCRIPTION:Join us for a weekly meeting of the Business Referral Alliance!  Each week we will have a feature one of our members as a speaker and give each member and guest a moment to introduce themselves and their business.  Our goal is to learn more about what makes your business unique and how you add value to your clients/customers so that we can introduce you to the correct people who need your solutions! \nPlease bring 30+ business cards to distribute.  The cost for breakfast is $11. \nWe’re looking forward to meeting you!
URL:https://www.professionalnetworkingalliance.com/event/weekly-meeting-of-the-business-referral-alliance-10/
LOCATION:Holiday Inn\, Gaithersburg\, 2 Montgomery Village Avenue\, Gaithersburg\, MD\, 20879\, US
CATEGORIES:Weekly Meeting
GEO:39.1540261;-77.2118982
X-APPLE-STRUCTURED-LOCATION;VALUE=URI;X-ADDRESS=Holiday Inn Gaithersburg 2 Montgomery Village Avenue Gaithersburg MD 20879 US;X-APPLE-RADIUS=500;X-TITLE=2 Montgomery Village Avenue:geo:-77.2118982,39.1540261
END:VEVENT
BEGIN:VEVENT
DTSTART;TZID=America/New_York:20190724T071500
DTEND;TZID=America/New_York:20190724T090000
DTSTAMP:20260423T183425
CREATED:20190523T160821Z
LAST-MODIFIED:20190523T160821Z
UID:10000187-1563952500-1563958800@www.professionalnetworkingalliance.com
SUMMARY:Weekly meeting of the Business Referral Alliance
DESCRIPTION:Join us for a weekly meeting of the Business Referral Alliance!  Each week we will have a feature one of our members as a speaker and give each member and guest a moment to introduce themselves and their business.  Our goal is to learn more about what makes your business unique and how you add value to your clients/customers so that we can introduce you to the correct people who need your solutions! \nPlease bring 30+ business cards to distribute.  The cost for breakfast is $11. \nWe’re looking forward to meeting you!
URL:https://www.professionalnetworkingalliance.com/event/weekly-meeting-of-the-business-referral-alliance-9/
LOCATION:Holiday Inn\, Gaithersburg\, 2 Montgomery Village Avenue\, Gaithersburg\, MD\, 20879\, US
CATEGORIES:Weekly Meeting
GEO:39.1540261;-77.2118982
X-APPLE-STRUCTURED-LOCATION;VALUE=URI;X-ADDRESS=Holiday Inn Gaithersburg 2 Montgomery Village Avenue Gaithersburg MD 20879 US;X-APPLE-RADIUS=500;X-TITLE=2 Montgomery Village Avenue:geo:-77.2118982,39.1540261
END:VEVENT
BEGIN:VEVENT
DTSTART;TZID=America/New_York:20190717T071500
DTEND;TZID=America/New_York:20190717T090000
DTSTAMP:20260423T183425
CREATED:20190523T160820Z
LAST-MODIFIED:20190523T160820Z
UID:10000188-1563347700-1563354000@www.professionalnetworkingalliance.com
SUMMARY:Weekly meeting of the Business Referral Alliance
DESCRIPTION:Join us for a weekly meeting of the Business Referral Alliance!  Each week we will have a feature one of our members as a speaker and give each member and guest a moment to introduce themselves and their business.  Our goal is to learn more about what makes your business unique and how you add value to your clients/customers so that we can introduce you to the correct people who need your solutions! \nPlease bring 30+ business cards to distribute.  The cost for breakfast is $11. \nWe’re looking forward to meeting you!
URL:https://www.professionalnetworkingalliance.com/event/weekly-meeting-of-the-business-referral-alliance-8/
LOCATION:Holiday Inn\, Gaithersburg\, 2 Montgomery Village Avenue\, Gaithersburg\, MD\, 20879\, US
CATEGORIES:Weekly Meeting
GEO:39.1540261;-77.2118982
X-APPLE-STRUCTURED-LOCATION;VALUE=URI;X-ADDRESS=Holiday Inn Gaithersburg 2 Montgomery Village Avenue Gaithersburg MD 20879 US;X-APPLE-RADIUS=500;X-TITLE=2 Montgomery Village Avenue:geo:-77.2118982,39.1540261
END:VEVENT
BEGIN:VEVENT
DTSTART;TZID=America/New_York:20190710T071500
DTEND;TZID=America/New_York:20190710T090000
DTSTAMP:20260423T183425
CREATED:20190523T160820Z
LAST-MODIFIED:20190523T160820Z
UID:10000189-1562742900-1562749200@www.professionalnetworkingalliance.com
SUMMARY:Weekly meeting of the Business Referral Alliance
DESCRIPTION:Join us for a weekly meeting of the Business Referral Alliance!  Each week we will have a feature one of our members as a speaker and give each member and guest a moment to introduce themselves and their business.  Our goal is to learn more about what makes your business unique and how you add value to your clients/customers so that we can introduce you to the correct people who need your solutions! \nPlease bring 30+ business cards to distribute.  The cost for breakfast is $11. \nWe’re looking forward to meeting you!
URL:https://www.professionalnetworkingalliance.com/event/weekly-meeting-of-the-business-referral-alliance-7/
LOCATION:Holiday Inn\, Gaithersburg\, 2 Montgomery Village Avenue\, Gaithersburg\, MD\, 20879\, US
CATEGORIES:Weekly Meeting
GEO:39.1540261;-77.2118982
X-APPLE-STRUCTURED-LOCATION;VALUE=URI;X-ADDRESS=Holiday Inn Gaithersburg 2 Montgomery Village Avenue Gaithersburg MD 20879 US;X-APPLE-RADIUS=500;X-TITLE=2 Montgomery Village Avenue:geo:-77.2118982,39.1540261
END:VEVENT
BEGIN:VEVENT
DTSTART;TZID=America/New_York:20190703T071500
DTEND;TZID=America/New_York:20190703T090000
DTSTAMP:20260423T183425
CREATED:20190523T160820Z
LAST-MODIFIED:20190523T160820Z
UID:10000190-1562138100-1562144400@www.professionalnetworkingalliance.com
SUMMARY:Weekly meeting of the Business Referral Alliance
DESCRIPTION:Join us for a weekly meeting of the Business Referral Alliance!  Each week we will have a feature one of our members as a speaker and give each member and guest a moment to introduce themselves and their business.  Our goal is to learn more about what makes your business unique and how you add value to your clients/customers so that we can introduce you to the correct people who need your solutions! \nPlease bring 30+ business cards to distribute.  The cost for breakfast is $11. \nWe’re looking forward to meeting you!
URL:https://www.professionalnetworkingalliance.com/event/weekly-meeting-of-the-business-referral-alliance-6/
LOCATION:Holiday Inn\, Gaithersburg\, 2 Montgomery Village Avenue\, Gaithersburg\, MD\, 20879\, US
CATEGORIES:Weekly Meeting
GEO:39.1540261;-77.2118982
X-APPLE-STRUCTURED-LOCATION;VALUE=URI;X-ADDRESS=Holiday Inn Gaithersburg 2 Montgomery Village Avenue Gaithersburg MD 20879 US;X-APPLE-RADIUS=500;X-TITLE=2 Montgomery Village Avenue:geo:-77.2118982,39.1540261
END:VEVENT
BEGIN:VEVENT
DTSTART;TZID=America/New_York:20190626T071500
DTEND;TZID=America/New_York:20190626T090000
DTSTAMP:20260423T183425
CREATED:20190523T160820Z
LAST-MODIFIED:20190523T160820Z
UID:10000191-1561533300-1561539600@www.professionalnetworkingalliance.com
SUMMARY:Weekly meeting of the Business Referral Alliance
DESCRIPTION:Join us for a weekly meeting of the Business Referral Alliance!  Each week we will have a feature one of our members as a speaker and give each member and guest a moment to introduce themselves and their business.  Our goal is to learn more about what makes your business unique and how you add value to your clients/customers so that we can introduce you to the correct people who need your solutions! \nPlease bring 30+ business cards to distribute.  The cost for breakfast is $11. \nWe’re looking forward to meeting you!
URL:https://www.professionalnetworkingalliance.com/event/weekly-meeting-of-the-business-referral-alliance-5/
LOCATION:Holiday Inn\, Gaithersburg\, 2 Montgomery Village Avenue\, Gaithersburg\, MD\, 20879\, US
CATEGORIES:Weekly Meeting
GEO:39.1540261;-77.2118982
X-APPLE-STRUCTURED-LOCATION;VALUE=URI;X-ADDRESS=Holiday Inn Gaithersburg 2 Montgomery Village Avenue Gaithersburg MD 20879 US;X-APPLE-RADIUS=500;X-TITLE=2 Montgomery Village Avenue:geo:-77.2118982,39.1540261
END:VEVENT
BEGIN:VEVENT
DTSTART;TZID=America/New_York:20190619T071500
DTEND;TZID=America/New_York:20190619T090000
DTSTAMP:20260423T183425
CREATED:20190523T160820Z
LAST-MODIFIED:20190523T160820Z
UID:10000167-1560928500-1560934800@www.professionalnetworkingalliance.com
SUMMARY:Weekly meeting of the Business Referral Alliance
DESCRIPTION:Join us for a weekly meeting of the Business Referral Alliance!  Each week we will have a feature one of our members as a speaker and give each member and guest a moment to introduce themselves and their business.  Our goal is to learn more about what makes your business unique and how you add value to your clients/customers so that we can introduce you to the correct people who need your solutions! \nPlease bring 30+ business cards to distribute.  The cost for breakfast is $11. \nWe’re looking forward to meeting you!
URL:https://www.professionalnetworkingalliance.com/event/weekly-meeting-of-the-business-referral-alliance-4/
LOCATION:Holiday Inn\, Gaithersburg\, 2 Montgomery Village Avenue\, Gaithersburg\, MD\, 20879\, US
CATEGORIES:Weekly Meeting
GEO:39.1540261;-77.2118982
X-APPLE-STRUCTURED-LOCATION;VALUE=URI;X-ADDRESS=Holiday Inn Gaithersburg 2 Montgomery Village Avenue Gaithersburg MD 20879 US;X-APPLE-RADIUS=500;X-TITLE=2 Montgomery Village Avenue:geo:-77.2118982,39.1540261
END:VEVENT
BEGIN:VEVENT
DTSTART;TZID=America/New_York:20190612T071500
DTEND;TZID=America/New_York:20190612T090000
DTSTAMP:20260423T183425
CREATED:20190523T160820Z
LAST-MODIFIED:20190523T160820Z
UID:10000165-1560323700-1560330000@www.professionalnetworkingalliance.com
SUMMARY:Weekly meeting of the Business Referral Alliance
DESCRIPTION:Join us for a weekly meeting of the Business Referral Alliance!  Each week we will have a feature one of our members as a speaker and give each member and guest a moment to introduce themselves and their business.  Our goal is to learn more about what makes your business unique and how you add value to your clients/customers so that we can introduce you to the correct people who need your solutions! \nPlease bring 30+ business cards to distribute.  The cost for breakfast is $11. \nWe’re looking forward to meeting you!
URL:https://www.professionalnetworkingalliance.com/event/weekly-meeting-of-the-business-referral-alliance-3/
LOCATION:Holiday Inn\, Gaithersburg\, 2 Montgomery Village Avenue\, Gaithersburg\, MD\, 20879\, US
CATEGORIES:Weekly Meeting
GEO:39.1540261;-77.2118982
X-APPLE-STRUCTURED-LOCATION;VALUE=URI;X-ADDRESS=Holiday Inn Gaithersburg 2 Montgomery Village Avenue Gaithersburg MD 20879 US;X-APPLE-RADIUS=500;X-TITLE=2 Montgomery Village Avenue:geo:-77.2118982,39.1540261
END:VEVENT
BEGIN:VEVENT
DTSTART;TZID=America/New_York:20190605T071500
DTEND;TZID=America/New_York:20190605T090000
DTSTAMP:20260423T183425
CREATED:20190523T160819Z
LAST-MODIFIED:20190523T160819Z
UID:10000193-1559718900-1559725200@www.professionalnetworkingalliance.com
SUMMARY:Weekly meeting of the Business Referral Alliance
DESCRIPTION:Join us for a weekly meeting of the Business Referral Alliance!  Each week we will have a feature one of our members as a speaker and give each member and guest a moment to introduce themselves and their business.  Our goal is to learn more about what makes your business unique and how you add value to your clients/customers so that we can introduce you to the correct people who need your solutions! \nPlease bring 30+ business cards to distribute.  The cost for breakfast is $11. \nWe’re looking forward to meeting you!
URL:https://www.professionalnetworkingalliance.com/event/weekly-meeting-of-the-business-referral-alliance-2/
LOCATION:Holiday Inn\, Gaithersburg\, 2 Montgomery Village Avenue\, Gaithersburg\, MD\, 20879\, US
CATEGORIES:Weekly Meeting
GEO:39.1540261;-77.2118982
X-APPLE-STRUCTURED-LOCATION;VALUE=URI;X-ADDRESS=Holiday Inn Gaithersburg 2 Montgomery Village Avenue Gaithersburg MD 20879 US;X-APPLE-RADIUS=500;X-TITLE=2 Montgomery Village Avenue:geo:-77.2118982,39.1540261
END:VEVENT
BEGIN:VEVENT
DTSTART;TZID=America/New_York:20190529T071500
DTEND;TZID=America/New_York:20190529T090000
DTSTAMP:20260423T183425
CREATED:20190523T160819Z
LAST-MODIFIED:20190523T160819Z
UID:10000192-1559114100-1559120400@www.professionalnetworkingalliance.com
SUMMARY:Weekly meeting of the Business Referral Alliance
DESCRIPTION:Join us for a weekly meeting of the Business Referral Alliance!  Each week we will have a feature one of our members as a speaker and give each member and guest a moment to introduce themselves and their business.  Our goal is to learn more about what makes your business unique and how you add value to your clients/customers so that we can introduce you to the correct people who need your solutions! \nPlease bring 30+ business cards to distribute.  The cost for breakfast is $11. \nWe’re looking forward to meeting you!
URL:https://www.professionalnetworkingalliance.com/event/weekly-meeting-of-the-business-referral-alliance/
LOCATION:Holiday Inn\, Gaithersburg\, 2 Montgomery Village Avenue\, Gaithersburg\, MD\, 20879\, US
CATEGORIES:Weekly Meeting
GEO:39.1540261;-77.2118982
X-APPLE-STRUCTURED-LOCATION;VALUE=URI;X-ADDRESS=Holiday Inn Gaithersburg 2 Montgomery Village Avenue Gaithersburg MD 20879 US;X-APPLE-RADIUS=500;X-TITLE=2 Montgomery Village Avenue:geo:-77.2118982,39.1540261
END:VEVENT
END:VCALENDAR