BEGIN:VCALENDAR
VERSION:2.0
PRODID:-//Professional Networking Alliance - ECPv6.15.20//NONSGML v1.0//EN
CALSCALE:GREGORIAN
METHOD:PUBLISH
X-ORIGINAL-URL:https://www.professionalnetworkingalliance.com
X-WR-CALDESC:Events for Professional Networking Alliance
REFRESH-INTERVAL;VALUE=DURATION:PT1H
X-Robots-Tag:noindex
X-PUBLISHED-TTL:PT1H
BEGIN:VTIMEZONE
TZID:America/New_York
BEGIN:DAYLIGHT
TZOFFSETFROM:-0500
TZOFFSETTO:-0400
TZNAME:EDT
DTSTART:20200308T070000
END:DAYLIGHT
BEGIN:STANDARD
TZOFFSETFROM:-0400
TZOFFSETTO:-0500
TZNAME:EST
DTSTART:20201101T060000
END:STANDARD
BEGIN:DAYLIGHT
TZOFFSETFROM:-0500
TZOFFSETTO:-0400
TZNAME:EDT
DTSTART:20210314T070000
END:DAYLIGHT
BEGIN:STANDARD
TZOFFSETFROM:-0400
TZOFFSETTO:-0500
TZNAME:EST
DTSTART:20211107T060000
END:STANDARD
BEGIN:DAYLIGHT
TZOFFSETFROM:-0500
TZOFFSETTO:-0400
TZNAME:EDT
DTSTART:20220313T070000
END:DAYLIGHT
BEGIN:STANDARD
TZOFFSETFROM:-0400
TZOFFSETTO:-0500
TZNAME:EST
DTSTART:20221106T060000
END:STANDARD
END:VTIMEZONE
BEGIN:VEVENT
DTSTART;TZID=America/New_York:20211022T190000
DTEND;TZID=America/New_York:20211022T210000
DTSTAMP:20260420T191122
CREATED:20211011T154926Z
LAST-MODIFIED:20211011T165707Z
UID:10000226-1634929200-1634936400@www.professionalnetworkingalliance.com
SUMMARY:Halloween Haunts at Markoff's Haunted Trail
DESCRIPTION:I’m excited to announce our October PNA Event – Halloween Haunts at Markoff’s Haunted Trail!  Next Friday\, October 22\, interested members can meet at Markoff’s at 7pm to hang out and grab a drink before an 8pm tour through the forest!  \nWe’re lucky as former PresiDANte Dan Cumberland has offered our group a coupon code (see email for code) to make it more affordable for us\, THANK YOU DAN!  \nDetails:\nFriday 10/22/21  Meet in the open/concession area at 7pm \n19120 Martinsburg Rd\nDickerson\, MD 20842 \nPurchase Tickets: Online or in Person* for the 8pm tour\nCoupon Code: thankyou20\n*Tickets are cheaper if purchased online\, AND this is their busiest weekend so GET YOUR TICKETS ASAP!  Purchasing tickets on a computer/laptop doesn’t populate the field for the coupon code\, so purchasing through a mobile phone browser will allow you to usethe coupon code. \nMore Information:\nhttps://www.markoffshauntedforest.com/ \nWear comfortable shoes/sneakers.  It is scary but totally safe 🙂\nLooking forward to seeing you there!
URL:https://www.professionalnetworkingalliance.com/event/halloween-haunts-at-markoffs-haunted-trail/
LOCATION:Markoff’s Haunted Forest\, 19120 Martinsburg Rd\, Dickerson\, MD\, 20842\, United States
CATEGORIES:Social Event
ORGANIZER;CN="Rose Buckley":MAILTO:RBuckley@usinspect.com
GEO:39.177373;-77.4769865
X-APPLE-STRUCTURED-LOCATION;VALUE=URI;X-ADDRESS=Markoff’s Haunted Forest 19120 Martinsburg Rd Dickerson MD 20842 United States;X-APPLE-RADIUS=500;X-TITLE=19120 Martinsburg Rd:geo:-77.4769865,39.177373
END:VEVENT
END:VCALENDAR